BEGIN:VCALENDAR
PRODID:-//PUBBLE//agenda//NL
VERSION:2.0
METHOD:PUBLISH
BEGIN:VEVENT
DTSTART:20260424T095742Z
DTEND:20260424T105742Z
DTSTAMP:20260424T222822Z
UID:f78e6c4b-d00b-49cf-9579-10ae992c76bd
CREATED:20260424T222822Z
NAME:Plantjes- en Zadenruilmarkt Dorpsmoestuin Wamel demaasenwaler.nl
X-WR-CALNAME:Plantjes- en Zadenruilmarkt Dorpsmoestuin Wamel
X-ALT-DESC;FMTTYPE=text/html:<a href='/agenda/2026/5/9/plantjes-en-zadenruilmarkt-dorpsmoestuin-wamel-61793'>/agenda/2026/5/9/plantjes-en-zadenruilmarkt-dorpsmoestuin-wamel-61793</a> || <p>Zaterdag 9 mei vanaf 10.00 uur is er weer de jaarlijkse plantjes- en zadenruilmarkt in dorpsmoestuin D’n Hof in Wamel. De markt vormt een gelegenheid om stekjes, plantjes en groente-, fruit- of bloemzaden te ruilen met anderen. Iedereen is van harte welkom om deel te nemen: ook niet-leden van de dorpstuin. Voor koffie en thee wordt gezorgd; wel wordt het aangeraden om zelf een beker mee te nemen. De toegang is gratis.</p><p>Dorpsmoestuin D’n Hof is te bereiken via het zandpad tussen de Waalbandijk en de Hogeweg, aan de Wamelse kant naast de Prins Willem Alexanderbrug. Wie met de auto komt, kan parkeren aan de Waalbandijk onder de brug of bij de begraafplaats aan de Hogeweg in Wamel.</p><p>In de moestuin zijn nog enkele kavels vrij. Neem voor meer informatie contact op per e-mail: info@dorpsmoestuin.nl.</p>
DESCRIPTION:<a href='/agenda/2026/5/9/plantjes-en-zadenruilmarkt-dorpsmoestuin-wamel-61793'>/agenda/2026/5/9/plantjes-en-zadenruilmarkt-dorpsmoestuin-wamel-61793</a> || <p>Zaterdag 9 mei vanaf 10.00 uur is er weer de jaarlijkse plantjes- en zadenruilmarkt in dorpsmoestuin D’n Hof in Wamel. De markt vormt een gelegenheid om stekjes, plantjes en groente-, fruit- of bloemzaden te ruilen met anderen. Iedereen is van harte welkom om deel te nemen: ook niet-leden van de dorpstuin. Voor koffie en thee wordt gezorgd; wel wordt het aangeraden om zelf een beker mee te nemen. De toegang is gratis.</p><p>Dorpsmoestuin D’n Hof is te bereiken via het zandpad tussen de Waalbandijk en de Hogeweg, aan de Wamelse kant naast de Prins Willem Alexanderbrug. Wie met de auto komt, kan parkeren aan de Waalbandijk onder de brug of bij de begraafplaats aan de Hogeweg in Wamel.</p><p>In de moestuin zijn nog enkele kavels vrij. Neem voor meer informatie contact op per e-mail: info@dorpsmoestuin.nl.</p>
LAST-MODIFIED:20260424T222822Z
LOCATION: Dorpsmoestuin D'n Hof |   Wamel
SEQUENCE:0
STATUS:CONFIRMED
SUMMARY:Plantjes- en Zadenruilmarkt Dorpsmoestuin Wamel
TRANSP:OPAQUE
END:VEVENT
END:VCALENDAR
