BEGIN:VCALENDAR
PRODID:-//PUBBLE//agenda//NL
VERSION:2.0
METHOD:PUBLISH
BEGIN:VEVENT
DTSTART:20260423T134708Z
DTEND:20260423T144708Z
DTSTAMP:20260424T223051Z
UID:40da93a5-d9e0-435a-a232-94760932ef20
CREATED:20260424T223051Z
NAME:Lenteconcert Seniorenorkest De Huttenkamp demaasenwaler.nl
X-WR-CALNAME:Lenteconcert Seniorenorkest De Huttenkamp
X-ALT-DESC;FMTTYPE=text/html:<a href='/agenda/2026/5/3/lenteconcert-seniorenorkest-de-huttenkamp-61789'>/agenda/2026/5/3/lenteconcert-seniorenorkest-de-huttenkamp-61789</a> || <p>WIJCHEN – Seniorenorkest De Huttenkamp verzorgt op zondag 3 mei een lenteconcert in Wijkcentrum Wijchen-Zuid. Het concert vindt plaats van 14.00 tot 16.00 uur aan de Zuiderpoort 56 en staat onder leiding van dirigent Bryan Verel.</p><p>Het orkest brengt een gevarieerd programma met verschillende muziekstijlen. Op het repertoire staan onder meer werken als de <em>Dorffest polka</em> en <em>My Dream</em>.</p><p>Het concert is vrij toegankelijk. Bezoekers kunnen desgewenst een vrijwillige bijdrage leveren ter ondersteuning van het orkest.</p><p>Naast het concert biedt de middag ook gelegenheid voor geïnteresseerden om kennis te maken met het orkest. Zowel beginnende als ervaren muzikanten zijn welkom om zich te oriënteren op deelname.</p>
DESCRIPTION:<a href='/agenda/2026/5/3/lenteconcert-seniorenorkest-de-huttenkamp-61789'>/agenda/2026/5/3/lenteconcert-seniorenorkest-de-huttenkamp-61789</a> || <p>WIJCHEN – Seniorenorkest De Huttenkamp verzorgt op zondag 3 mei een lenteconcert in Wijkcentrum Wijchen-Zuid. Het concert vindt plaats van 14.00 tot 16.00 uur aan de Zuiderpoort 56 en staat onder leiding van dirigent Bryan Verel.</p><p>Het orkest brengt een gevarieerd programma met verschillende muziekstijlen. Op het repertoire staan onder meer werken als de <em>Dorffest polka</em> en <em>My Dream</em>.</p><p>Het concert is vrij toegankelijk. Bezoekers kunnen desgewenst een vrijwillige bijdrage leveren ter ondersteuning van het orkest.</p><p>Naast het concert biedt de middag ook gelegenheid voor geïnteresseerden om kennis te maken met het orkest. Zowel beginnende als ervaren muzikanten zijn welkom om zich te oriënteren op deelname.</p>
LAST-MODIFIED:20260424T223051Z
LOCATION: Wijkcentrum Wijchen-Zuid | Zuiderpoort 56 Wijchen
SEQUENCE:0
STATUS:CONFIRMED
SUMMARY:Lenteconcert Seniorenorkest De Huttenkamp
TRANSP:OPAQUE
END:VEVENT
END:VCALENDAR
