BEGIN:VCALENDAR
PRODID:-//PUBBLE//agenda//NL
VERSION:2.0
METHOD:PUBLISH
BEGIN:VEVENT
DTSTART:20260423T110308Z
DTEND:20260423T120308Z
DTSTAMP:20260424T222623Z
UID:4493f97e-f05d-4560-a37a-943844546e53
CREATED:20260424T222623Z
NAME:Excursie Eendenkooi Batenburg demaasenwaler.nl
X-WR-CALNAME:Excursie Eendenkooi Batenburg
X-ALT-DESC;FMTTYPE=text/html:<a href='/agenda/2026/5/16/excursie-eendenkooi-batenburg-61785'>/agenda/2026/5/16/excursie-eendenkooi-batenburg-61785</a> || <p>De boswachters van Geldersch Landschap &amp; Kasteelen organiseren op zaterdag 16 mei en woensdag 10 juni een excursie naar de eendenkooi van Batenburg, die normaliter niet toegankelijk is voor het publiek. Een boswachter neemt de deelnemers mee rond de kooiplas en vertelt over de historie en de werking van de eendenkooi, het werk van de kooiker, de begroeiing op het terrein en het beheer daarvan. Ook wordt onderweg ervaren dat er op de eendenkooi een sfeer van zowel rust als geheimzinnigheid heerst.&nbsp;</p><p>Eendenkooien werden vroeger gebruikt om eenden te vangen voor consumptie. De eendenkooi bestaat uit een flinke vijver waar enkele smalle sloten op uitkomen: de zogenaamde vangpijpen. Met tamme eenden en een kooikerhondje werden wilde eenden gelokt en gevangen. In Nederland bestaan nog ongeveer 119 geregistreerde eendenkooien. Veel kooien hebben slechts één vangpijp gebruiksklaar. De eendenkooi in Batenburg is echter volledig bedrijfsklaar en in originele staat.&nbsp;</p><p>De twee excursies vinden plaats op 16 mei om 10.00 uur en 10 juni om 19.00 uur. De bezoeken duren ongeveer twee uur. Deelname bedraagt 10 euro voor volwassen. Kinderen van 4 tot en met 12 jaar betalen 6 euro, al geeft de boswachter aan: de excursie is geschikt voor kinderen vanaf 10 jaar. Donateurs betalen de helft van de prijs op vertoon van een geldige pas. Vooraf online reserveren is noodzakelijk, via: <a href="//www.glk.nl/excursies">www.glk.nl/excursies</a>.</p>
DESCRIPTION:<a href='/agenda/2026/5/16/excursie-eendenkooi-batenburg-61785'>/agenda/2026/5/16/excursie-eendenkooi-batenburg-61785</a> || <p>De boswachters van Geldersch Landschap &amp; Kasteelen organiseren op zaterdag 16 mei en woensdag 10 juni een excursie naar de eendenkooi van Batenburg, die normaliter niet toegankelijk is voor het publiek. Een boswachter neemt de deelnemers mee rond de kooiplas en vertelt over de historie en de werking van de eendenkooi, het werk van de kooiker, de begroeiing op het terrein en het beheer daarvan. Ook wordt onderweg ervaren dat er op de eendenkooi een sfeer van zowel rust als geheimzinnigheid heerst.&nbsp;</p><p>Eendenkooien werden vroeger gebruikt om eenden te vangen voor consumptie. De eendenkooi bestaat uit een flinke vijver waar enkele smalle sloten op uitkomen: de zogenaamde vangpijpen. Met tamme eenden en een kooikerhondje werden wilde eenden gelokt en gevangen. In Nederland bestaan nog ongeveer 119 geregistreerde eendenkooien. Veel kooien hebben slechts één vangpijp gebruiksklaar. De eendenkooi in Batenburg is echter volledig bedrijfsklaar en in originele staat.&nbsp;</p><p>De twee excursies vinden plaats op 16 mei om 10.00 uur en 10 juni om 19.00 uur. De bezoeken duren ongeveer twee uur. Deelname bedraagt 10 euro voor volwassen. Kinderen van 4 tot en met 12 jaar betalen 6 euro, al geeft de boswachter aan: de excursie is geschikt voor kinderen vanaf 10 jaar. Donateurs betalen de helft van de prijs op vertoon van een geldige pas. Vooraf online reserveren is noodzakelijk, via: <a href="//www.glk.nl/excursies">www.glk.nl/excursies</a>.</p>
LAST-MODIFIED:20260424T222623Z
LOCATION: Batenburg |   Batenburg
SEQUENCE:0
STATUS:CONFIRMED
SUMMARY:Excursie Eendenkooi Batenburg
TRANSP:OPAQUE
END:VEVENT
END:VCALENDAR
