BEGIN:VCALENDAR
PRODID:-//PUBBLE//agenda//NL
VERSION:2.0
METHOD:PUBLISH
BEGIN:VEVENT
DTSTART:20260423T100655Z
DTEND:20260423T110655Z
DTSTAMP:20260424T210253Z
UID:e5af63f1-5659-4c56-8bb1-13e19c4c6552
CREATED:20260424T210253Z
NAME:Wandeling van KLeiGoed Maas en Waal demaasenwaler.nl
X-WR-CALNAME:Wandeling van KLeiGoed Maas en Waal
X-ALT-DESC;FMTTYPE=text/html:<a href='/agenda/2026/5/2/wandeling-van-kleigoed-maas-en-waal-61784'>/agenda/2026/5/2/wandeling-van-kleigoed-maas-en-waal-61784</a> || <p>Op zaterdag 2 mei kunnen de wandelschoenen uit de kast: enthousiasten kunnen die ochtend op pad met een wandeling van stichting KLeiGoed Maas en Waal.</p><p>Onder leiding van twee natuurliefhebbers van de stichting gaan deelnemers onder andere langs de voormalige steenfabriek Dericks &amp; Geldens en door de Afferdense en Deestse Waarden. Bij de steenfabriek komt men langs muurornamenten en tegeltableaus. In het buitendijkse deel van de tocht wordt verteld over onder andere de flora en fauna van de uiterwaarden, het aanleggen van de aangrenzende nevengeul en de biodiversiteit die daardoor ontstaan is.&nbsp;</p><p>De tocht duurt ongeveer een uur en is ongeveer 3 kilometer lang. De start van de tocht is het Bondsgebouw aan de Kattenburg 27 in Druten. De wandeling begint om 10.00 uur. Vooraf aanmelden kan per e-mail: <a href="mailto:info@kleigoedmaasenwaal.nl">info@kleigoedmaasenwaal.nl</a>.</p>
DESCRIPTION:<a href='/agenda/2026/5/2/wandeling-van-kleigoed-maas-en-waal-61784'>/agenda/2026/5/2/wandeling-van-kleigoed-maas-en-waal-61784</a> || <p>Op zaterdag 2 mei kunnen de wandelschoenen uit de kast: enthousiasten kunnen die ochtend op pad met een wandeling van stichting KLeiGoed Maas en Waal.</p><p>Onder leiding van twee natuurliefhebbers van de stichting gaan deelnemers onder andere langs de voormalige steenfabriek Dericks &amp; Geldens en door de Afferdense en Deestse Waarden. Bij de steenfabriek komt men langs muurornamenten en tegeltableaus. In het buitendijkse deel van de tocht wordt verteld over onder andere de flora en fauna van de uiterwaarden, het aanleggen van de aangrenzende nevengeul en de biodiversiteit die daardoor ontstaan is.&nbsp;</p><p>De tocht duurt ongeveer een uur en is ongeveer 3 kilometer lang. De start van de tocht is het Bondsgebouw aan de Kattenburg 27 in Druten. De wandeling begint om 10.00 uur. Vooraf aanmelden kan per e-mail: <a href="mailto:info@kleigoedmaasenwaal.nl">info@kleigoedmaasenwaal.nl</a>.</p>
LAST-MODIFIED:20260424T210253Z
LOCATION: Bondsgebouw | Kattenburg 27 Druten
SEQUENCE:0
STATUS:CONFIRMED
SUMMARY:Wandeling van KLeiGoed Maas en Waal
TRANSP:OPAQUE
END:VEVENT
END:VCALENDAR
