BEGIN:VCALENDAR
PRODID:-//PUBBLE//agenda//NL
VERSION:2.0
METHOD:PUBLISH
BEGIN:VEVENT
DTSTART:20260422T171556Z
DTEND:20260422T181556Z
DTSTAMP:20260424T222947Z
UID:1da970d0-7109-4567-ab03-aaf4081e26ef
CREATED:20260424T222947Z
NAME:Herdenking Winssen demaasenwaler.nl
X-WR-CALNAME:Herdenking Winssen
X-ALT-DESC;FMTTYPE=text/html:<a href='/agenda/2026/5/4/herdenking-winssen-61782'>/agenda/2026/5/4/herdenking-winssen-61782</a> || <p>De ceremonie vindt plaats om 11.45 uur bij het oorlogsmonument aan het Admiraal van Ghentplein.</p>
DESCRIPTION:<a href='/agenda/2026/5/4/herdenking-winssen-61782'>/agenda/2026/5/4/herdenking-winssen-61782</a> || <p>De ceremonie vindt plaats om 11.45 uur bij het oorlogsmonument aan het Admiraal van Ghentplein.</p>
LAST-MODIFIED:20260424T222947Z
LOCATION: Admiraal van Ghentplein | Molenstraat 1 Winssen
SEQUENCE:0
STATUS:CONFIRMED
SUMMARY:Herdenking Winssen
TRANSP:OPAQUE
END:VEVENT
END:VCALENDAR
