BEGIN:VCALENDAR
PRODID:-//PUBBLE//agenda//NL
VERSION:2.0
METHOD:PUBLISH
BEGIN:VEVENT
DTSTART:20260422T171510Z
DTEND:20260422T181510Z
DTSTAMP:20260424T223121Z
UID:ded07cbb-cdf6-4dec-b5c0-1d5101af83f3
CREATED:20260424T223121Z
NAME:Herdenking Weurt demaasenwaler.nl
X-WR-CALNAME:Herdenking Weurt
X-ALT-DESC;FMTTYPE=text/html:<a href='/agenda/2026/5/4/herdenking-weurt-61781'>/agenda/2026/5/4/herdenking-weurt-61781</a> || <p>De herdenking is om 10.00 uur in de Andreaskerk.&nbsp;</p>
DESCRIPTION:<a href='/agenda/2026/5/4/herdenking-weurt-61781'>/agenda/2026/5/4/herdenking-weurt-61781</a> || <p>De herdenking is om 10.00 uur in de Andreaskerk.&nbsp;</p>
LAST-MODIFIED:20260424T223121Z
LOCATION: Andreaskerk |   Weurt
SEQUENCE:0
STATUS:CONFIRMED
SUMMARY:Herdenking Weurt
TRANSP:OPAQUE
END:VEVENT
END:VCALENDAR
