BEGIN:VCALENDAR
PRODID:-//PUBBLE//agenda//NL
VERSION:2.0
METHOD:PUBLISH
BEGIN:VEVENT
DTSTART:20260422T170913Z
DTEND:20260422T180913Z
DTSTAMP:20260424T222843Z
UID:5b050cbf-7f0a-4617-95a8-57ab1408e90f
CREATED:20260424T222843Z
NAME:Herdenking Wamel demaasenwaler.nl
X-WR-CALNAME:Herdenking Wamel
X-ALT-DESC;FMTTYPE=text/html:<a href='/agenda/2026/5/4/herdenking-wamel-61780'>/agenda/2026/5/4/herdenking-wamel-61780</a> || <p>De herdenking is weer in het VTC in Wamel. Deuren gaan open om 19 uur en start om 19.15 uur.</p><p>De muzikale omlijsting wordt verzorgd door koor Amicitia uit Wamel. De spreker deze avond is journalist Bram Vermeulen. Geboren Wamelnaar en bekend als voormalig oorlogscorrespondent van het NOS journaal en programmamaker van de VPRO. Na de herdenking binnen gaan we in stille tocht achter de tamboer naar het oorlogsmonument. Alwaar het taptoesignaal, 2 minuten stilte en zingen Wilhelmus. Wethouder Slootweg zal namens de gemeente een krans leggen en een toespraak geven. Er is ook gelegenheid voor een bloemenhulde.</p><p>19.00 uur zaal open<br>19.15 uur aanvang programma - spreker Bram Vermeulen</p><p>20.00 uur Nationale Herdenking - 2 minuten stilte bij het oorlogsmonument, aansluitend kranslegging</p>
DESCRIPTION:<a href='/agenda/2026/5/4/herdenking-wamel-61780'>/agenda/2026/5/4/herdenking-wamel-61780</a> || <p>De herdenking is weer in het VTC in Wamel. Deuren gaan open om 19 uur en start om 19.15 uur.</p><p>De muzikale omlijsting wordt verzorgd door koor Amicitia uit Wamel. De spreker deze avond is journalist Bram Vermeulen. Geboren Wamelnaar en bekend als voormalig oorlogscorrespondent van het NOS journaal en programmamaker van de VPRO. Na de herdenking binnen gaan we in stille tocht achter de tamboer naar het oorlogsmonument. Alwaar het taptoesignaal, 2 minuten stilte en zingen Wilhelmus. Wethouder Slootweg zal namens de gemeente een krans leggen en een toespraak geven. Er is ook gelegenheid voor een bloemenhulde.</p><p>19.00 uur zaal open<br>19.15 uur aanvang programma - spreker Bram Vermeulen</p><p>20.00 uur Nationale Herdenking - 2 minuten stilte bij het oorlogsmonument, aansluitend kranslegging</p>
LAST-MODIFIED:20260424T222843Z
LOCATION: VTC | Clarissenstraat 2 Wamel
SEQUENCE:0
STATUS:CONFIRMED
SUMMARY:Herdenking Wamel
TRANSP:OPAQUE
END:VEVENT
END:VCALENDAR
