BEGIN:VCALENDAR
PRODID:-//PUBBLE//agenda//NL
VERSION:2.0
METHOD:PUBLISH
BEGIN:VEVENT
DTSTART:20260422T170256Z
DTEND:20260422T180256Z
DTSTAMP:20260424T222912Z
UID:2b77bbb6-6324-4fc6-8a08-ebc1907ac8f9
CREATED:20260424T222912Z
NAME:Herdenking Puiflijk demaasenwaler.nl
X-WR-CALNAME:Herdenking Puiflijk
X-ALT-DESC;FMTTYPE=text/html:<a href='/agenda/2026/5/4/herdenking-puiflijk-61779'>/agenda/2026/5/4/herdenking-puiflijk-61779</a> || <p>De herdenkingsdienst op 4 mei begint om 19.15 uur in de kerk van Puiflijk.</p><p>Een stil verlies in Puiflijk Tijdens de dienst wordt het verhaal <em>“Een stil verlies in Puiflijk”</em> verteld, waarin we stilstaan bij het leven van Daniël van Rooijen, een Joodse onderduiker die in 1942 met zijn jonge gezin onderdak vond in ons dorp. Fietsend op weg naar Druten werd hij opgepakt. Daniel en zijn gezin zijn via Westerbork naar Auschwitz gedeporteerd waar zij werden vermoord. Om de jeugd actief te betrekken, wordt dit indrukwekkende verhaal mede door kinderen voorgelezen.</p><p>Onthulling nieuwe naambordjes oorlogsgraven Daarnaast zal de burgemeester tijdens de dienst de nieuwe naambordjes onthullen ter nagedachtenis aan de omgekomen militairen uit onze gemeenschap. Deze bordjes zijn een initiatief van de veteranenvereniging gemeente Druten en geven de gesneuvelden een gezicht, met foto’s, een korte persoonlijke tekst en QR‑codes naar hun uitgebreide biografie.</p><p>Muzikale omlijsting van de bijeenkomst</p><p>Muziekvereniging Arezzo en wereldmuziekkoor Nonjana, zullen met hun muziek bijdragen aan een waardige en bezinnende sfeer.</p><p>Programma</p><p>•&nbsp;&nbsp;&nbsp;&nbsp;&nbsp;&nbsp;&nbsp;&nbsp; 19.15 uur: Herdenkingsbijeenkomst in de kerk van Puiflijk</p><p>•&nbsp;&nbsp;&nbsp;&nbsp;&nbsp;&nbsp;&nbsp;&nbsp; 20.00 uur: Twee minuten stilte</p><p>•&nbsp;&nbsp;&nbsp;&nbsp;&nbsp;&nbsp;&nbsp;&nbsp; Aansluitend: Kranslegging en gelegenheid tot persoonlijke herdenking</p><p>Iedereen is welkom.</p>
DESCRIPTION:<a href='/agenda/2026/5/4/herdenking-puiflijk-61779'>/agenda/2026/5/4/herdenking-puiflijk-61779</a> || <p>De herdenkingsdienst op 4 mei begint om 19.15 uur in de kerk van Puiflijk.</p><p>Een stil verlies in Puiflijk Tijdens de dienst wordt het verhaal <em>“Een stil verlies in Puiflijk”</em> verteld, waarin we stilstaan bij het leven van Daniël van Rooijen, een Joodse onderduiker die in 1942 met zijn jonge gezin onderdak vond in ons dorp. Fietsend op weg naar Druten werd hij opgepakt. Daniel en zijn gezin zijn via Westerbork naar Auschwitz gedeporteerd waar zij werden vermoord. Om de jeugd actief te betrekken, wordt dit indrukwekkende verhaal mede door kinderen voorgelezen.</p><p>Onthulling nieuwe naambordjes oorlogsgraven Daarnaast zal de burgemeester tijdens de dienst de nieuwe naambordjes onthullen ter nagedachtenis aan de omgekomen militairen uit onze gemeenschap. Deze bordjes zijn een initiatief van de veteranenvereniging gemeente Druten en geven de gesneuvelden een gezicht, met foto’s, een korte persoonlijke tekst en QR‑codes naar hun uitgebreide biografie.</p><p>Muzikale omlijsting van de bijeenkomst</p><p>Muziekvereniging Arezzo en wereldmuziekkoor Nonjana, zullen met hun muziek bijdragen aan een waardige en bezinnende sfeer.</p><p>Programma</p><p>•&nbsp;&nbsp;&nbsp;&nbsp;&nbsp;&nbsp;&nbsp;&nbsp; 19.15 uur: Herdenkingsbijeenkomst in de kerk van Puiflijk</p><p>•&nbsp;&nbsp;&nbsp;&nbsp;&nbsp;&nbsp;&nbsp;&nbsp; 20.00 uur: Twee minuten stilte</p><p>•&nbsp;&nbsp;&nbsp;&nbsp;&nbsp;&nbsp;&nbsp;&nbsp; Aansluitend: Kranslegging en gelegenheid tot persoonlijke herdenking</p><p>Iedereen is welkom.</p>
LAST-MODIFIED:20260424T222912Z
LOCATION: H. Johannes de Doperkerk |   Puiflijk
SEQUENCE:0
STATUS:CONFIRMED
SUMMARY:Herdenking Puiflijk
TRANSP:OPAQUE
END:VEVENT
END:VCALENDAR
