BEGIN:VCALENDAR
PRODID:-//PUBBLE//agenda//NL
VERSION:2.0
METHOD:PUBLISH
BEGIN:VEVENT
DTSTART:20260422T165652Z
DTEND:20260422T175652Z
DTSTAMP:20260424T223121Z
UID:2a0247f7-345a-49d6-a528-af7b03e56daf
CREATED:20260424T223121Z
NAME:Herdenking Horssen demaasenwaler.nl
X-WR-CALNAME:Herdenking Horssen
X-ALT-DESC;FMTTYPE=text/html:<a href='/agenda/2026/5/4/herdenking-horssen-61778'>/agenda/2026/5/4/herdenking-horssen-61778</a> || <p>In Horssen herdenken we jaarlijks op 4 mei de heer J.J.C.M. Luske, burgemeester van Horssen van nov. 1931 tot dec. 1944 en van Bergharen vanaf sept. 1934. Omdat hij o.a. voor onderduikadressen zorgde, werd hij door de Duitsers opgepakt en uiteindelijk kwam hij in kamp Neuengamme terecht, waar hij op 27 december 1944 aan typhus overleed. Daarnaast herdenken we nog een aantal Horssenaren die in de oorlog zijn omgekomen.</p><p>Programma herdenking oorlogsslachtoffers 1940/1945 op maandagavond 4 mei 2026.</p><p>18.30&nbsp;&nbsp;&nbsp;&nbsp;&nbsp;&nbsp;&nbsp;&nbsp; Vertrek in stille tocht vanaf Dorpshuis “De Horst”</p><p>18.45&nbsp;&nbsp;&nbsp;&nbsp;&nbsp;&nbsp;&nbsp;&nbsp; Aanvang herdenkingsplechtigheid in Protestantse kerk</p><ul><li>Welkomstwoord voorzitter 4 mei-comité Hans van Elk</li><li>Zang en muziek door Fleur en John</li><li>Toespraak wethouder Ronald Thoonen</li><li>Zang en muziek door Fleur en John</li><li>Voordracht door leerlingen Basisschool</li><li>Toespraak/gedicht familielid Luske</li><li>Zang en muziek door Fleur en John</li></ul><p>19.30&nbsp;&nbsp;&nbsp;&nbsp;&nbsp;&nbsp;&nbsp;&nbsp; Bloemlegging Protestants kerkhof&nbsp;</p><ul><li>Muziekkapel speelt twee koralen</li><li>Bloemlegging bij de drie oorlogsgraven&nbsp;</li><li>Zang en muziek door Fleur en John</li></ul><p>19.50&nbsp;&nbsp;&nbsp;&nbsp;&nbsp;&nbsp;&nbsp;&nbsp; Aankomst bij Luske-monument</p><ul><li>Muziekkapel speelt enkele koralen</li></ul><p>20.00&nbsp;&nbsp;&nbsp;&nbsp;&nbsp;&nbsp;&nbsp;&nbsp; Twee minuten stilte na laatste klokslag</p><ul><li>Spelen “Taptoe Infanterie”</li><li>Kranslegging wethouder Ronald Thoonen</li><li>Gelegenheid voor bloemlegging</li><li>Muziekkapel speelt het “Wilhelmus”</li></ul><p>Na afloop van de herdenking samenkomst in dorpshuis “De Horst”.</p><p>Het gedeelte van de herdenking dat in de kerk plaats vindt is vanaf 18.45 uur live te volgen via de link: https://www.kerkomroep.nl/#/kerken/21990</p>
DESCRIPTION:<a href='/agenda/2026/5/4/herdenking-horssen-61778'>/agenda/2026/5/4/herdenking-horssen-61778</a> || <p>In Horssen herdenken we jaarlijks op 4 mei de heer J.J.C.M. Luske, burgemeester van Horssen van nov. 1931 tot dec. 1944 en van Bergharen vanaf sept. 1934. Omdat hij o.a. voor onderduikadressen zorgde, werd hij door de Duitsers opgepakt en uiteindelijk kwam hij in kamp Neuengamme terecht, waar hij op 27 december 1944 aan typhus overleed. Daarnaast herdenken we nog een aantal Horssenaren die in de oorlog zijn omgekomen.</p><p>Programma herdenking oorlogsslachtoffers 1940/1945 op maandagavond 4 mei 2026.</p><p>18.30&nbsp;&nbsp;&nbsp;&nbsp;&nbsp;&nbsp;&nbsp;&nbsp; Vertrek in stille tocht vanaf Dorpshuis “De Horst”</p><p>18.45&nbsp;&nbsp;&nbsp;&nbsp;&nbsp;&nbsp;&nbsp;&nbsp; Aanvang herdenkingsplechtigheid in Protestantse kerk</p><ul><li>Welkomstwoord voorzitter 4 mei-comité Hans van Elk</li><li>Zang en muziek door Fleur en John</li><li>Toespraak wethouder Ronald Thoonen</li><li>Zang en muziek door Fleur en John</li><li>Voordracht door leerlingen Basisschool</li><li>Toespraak/gedicht familielid Luske</li><li>Zang en muziek door Fleur en John</li></ul><p>19.30&nbsp;&nbsp;&nbsp;&nbsp;&nbsp;&nbsp;&nbsp;&nbsp; Bloemlegging Protestants kerkhof&nbsp;</p><ul><li>Muziekkapel speelt twee koralen</li><li>Bloemlegging bij de drie oorlogsgraven&nbsp;</li><li>Zang en muziek door Fleur en John</li></ul><p>19.50&nbsp;&nbsp;&nbsp;&nbsp;&nbsp;&nbsp;&nbsp;&nbsp; Aankomst bij Luske-monument</p><ul><li>Muziekkapel speelt enkele koralen</li></ul><p>20.00&nbsp;&nbsp;&nbsp;&nbsp;&nbsp;&nbsp;&nbsp;&nbsp; Twee minuten stilte na laatste klokslag</p><ul><li>Spelen “Taptoe Infanterie”</li><li>Kranslegging wethouder Ronald Thoonen</li><li>Gelegenheid voor bloemlegging</li><li>Muziekkapel speelt het “Wilhelmus”</li></ul><p>Na afloop van de herdenking samenkomst in dorpshuis “De Horst”.</p><p>Het gedeelte van de herdenking dat in de kerk plaats vindt is vanaf 18.45 uur live te volgen via de link: https://www.kerkomroep.nl/#/kerken/21990</p>
LAST-MODIFIED:20260424T223121Z
LOCATION: Dorpshuis de Horst | 38 Rijdt Horssen
SEQUENCE:0
STATUS:CONFIRMED
SUMMARY:Herdenking Horssen
TRANSP:OPAQUE
END:VEVENT
END:VCALENDAR
