BEGIN:VCALENDAR
PRODID:-//PUBBLE//agenda//NL
VERSION:2.0
METHOD:PUBLISH
BEGIN:VEVENT
DTSTART:20260422T163540Z
DTEND:20260422T173540Z
DTSTAMP:20260424T222732Z
UID:65dc65e7-ce22-46c4-b510-02ca8ff878be
CREATED:20260424T222732Z
NAME:Herdenking Ewijk demaasenwaler.nl
X-WR-CALNAME:Herdenking Ewijk
X-ALT-DESC;FMTTYPE=text/html:<a href='/agenda/2026/5/4/herdenking-ewijk-61777'>/agenda/2026/5/4/herdenking-ewijk-61777</a> || <p>De herdenking van 4 mei neemt dit jaar een centrale plaats in binnen onze activiteiten.Juist in een tijd waarin vrijheid niet vanzelfsprekend blijkt, vinden wij het belangrijk om stil te staan bij de Ewijkse slachtoffers en de Engelse militairen die tijdens de Tweede Wereldoorlog hun leven verloren. Vorig jaar zagen we al dat deze behoefte breed leeft: de Dodenherdenking werd toen uitzonderlijk goed bezocht en bood velen een moment van bezinning en verbondenheid.</p><p>Hoewel in 2025 landelijk 80 jaar Vrijheid werd gevierd en wij in Ewijk op 5 mei een uitgebreid programma organiseerden, richten wij ons dit jaar volledig op de herdenking van 4 mei. Het herdenken van de oorlogsslachtoffers blijft immers de kern van onze missie.&nbsp;</p><p>Op 4 mei vindt de jaarlijkse Dodenherdenking plaats bij de R.K. kerk in Ewijk. De bijeenkomst begint om 14.00 uur en duurt tot ongeveer 15.00 uur. Tijdens de plechtigheid zullen burgemeester Daphne Bergman en pastor Ruud Roefs spreken. Daarnaast dragen enkele kinderen gedichten voor namens Basisschool De Reuzepas, die het Ewijkse oorlogsmonument heeft geadopteerd. Hun bijdrage onderstreept het belang van het doorgeven van herinneringen aan nieuwe generaties. Ook het Liturgisch Gemengd Koor is weer aanwezig en zal tussendoor enkele liederen zingen. Wij nodigen iedereen van harte uit om samen met ons stil te staan bij de slachtoffers van oorlog en geweld, en om het belang van vrijheid te blijven beseffen. Meer informatie is te vinden op onze website:www.4en5mei-ewijk.nl&nbsp;</p><p>Of via e-mail: stichting4en5mei-ewijk@outlook.com</p>
DESCRIPTION:<a href='/agenda/2026/5/4/herdenking-ewijk-61777'>/agenda/2026/5/4/herdenking-ewijk-61777</a> || <p>De herdenking van 4 mei neemt dit jaar een centrale plaats in binnen onze activiteiten.Juist in een tijd waarin vrijheid niet vanzelfsprekend blijkt, vinden wij het belangrijk om stil te staan bij de Ewijkse slachtoffers en de Engelse militairen die tijdens de Tweede Wereldoorlog hun leven verloren. Vorig jaar zagen we al dat deze behoefte breed leeft: de Dodenherdenking werd toen uitzonderlijk goed bezocht en bood velen een moment van bezinning en verbondenheid.</p><p>Hoewel in 2025 landelijk 80 jaar Vrijheid werd gevierd en wij in Ewijk op 5 mei een uitgebreid programma organiseerden, richten wij ons dit jaar volledig op de herdenking van 4 mei. Het herdenken van de oorlogsslachtoffers blijft immers de kern van onze missie.&nbsp;</p><p>Op 4 mei vindt de jaarlijkse Dodenherdenking plaats bij de R.K. kerk in Ewijk. De bijeenkomst begint om 14.00 uur en duurt tot ongeveer 15.00 uur. Tijdens de plechtigheid zullen burgemeester Daphne Bergman en pastor Ruud Roefs spreken. Daarnaast dragen enkele kinderen gedichten voor namens Basisschool De Reuzepas, die het Ewijkse oorlogsmonument heeft geadopteerd. Hun bijdrage onderstreept het belang van het doorgeven van herinneringen aan nieuwe generaties. Ook het Liturgisch Gemengd Koor is weer aanwezig en zal tussendoor enkele liederen zingen. Wij nodigen iedereen van harte uit om samen met ons stil te staan bij de slachtoffers van oorlog en geweld, en om het belang van vrijheid te blijven beseffen. Meer informatie is te vinden op onze website:www.4en5mei-ewijk.nl&nbsp;</p><p>Of via e-mail: stichting4en5mei-ewijk@outlook.com</p>
LAST-MODIFIED:20260424T222732Z
LOCATION: H. Johannes de Doper kerk | Julianastraat 9 Ewijk
SEQUENCE:0
STATUS:CONFIRMED
SUMMARY:Herdenking Ewijk
TRANSP:OPAQUE
END:VEVENT
END:VCALENDAR
