BEGIN:VCALENDAR
PRODID:-//PUBBLE//agenda//NL
VERSION:2.0
METHOD:PUBLISH
BEGIN:VEVENT
DTSTART:20260422T163231Z
DTEND:20260422T173231Z
DTSTAMP:20260424T222658Z
UID:a8bc189a-0446-404d-bb0c-0e4eb90b8e6b
CREATED:20260424T222658Z
NAME:Herdenking Druten demaasenwaler.nl
X-WR-CALNAME:Herdenking Druten
X-ALT-DESC;FMTTYPE=text/html:<a href='/agenda/2026/5/4/herdenking-druten-61776'>/agenda/2026/5/4/herdenking-druten-61776</a> || <p>DRUTEN - Voorafgaand aan de jaarlijkse dodenherdenking is er een herdenkingsmis in de H.H. Ewaldenkerk.&nbsp;</p><p>Ontvangst om 18.45 uur, aanvang bijeenkomst 19.00 uur. Na de bijeenkomst stille tocht naar het monument op het Ambtshuisplein. Om 20.00 uur is de plechtigheid bij het gemeentelijk oorlogsmonument met twee minuten stilte, zang, woord, muziek, kranslegging en bloemenhulde.</p>
DESCRIPTION:<a href='/agenda/2026/5/4/herdenking-druten-61776'>/agenda/2026/5/4/herdenking-druten-61776</a> || <p>DRUTEN - Voorafgaand aan de jaarlijkse dodenherdenking is er een herdenkingsmis in de H.H. Ewaldenkerk.&nbsp;</p><p>Ontvangst om 18.45 uur, aanvang bijeenkomst 19.00 uur. Na de bijeenkomst stille tocht naar het monument op het Ambtshuisplein. Om 20.00 uur is de plechtigheid bij het gemeentelijk oorlogsmonument met twee minuten stilte, zang, woord, muziek, kranslegging en bloemenhulde.</p>
LAST-MODIFIED:20260424T222658Z
LOCATION: H.H. Ewaldenkerk | Hogestraat  2 Druten
SEQUENCE:0
STATUS:CONFIRMED
SUMMARY:Herdenking Druten
TRANSP:OPAQUE
END:VEVENT
END:VCALENDAR
