BEGIN:VCALENDAR
PRODID:-//PUBBLE//agenda//NL
VERSION:2.0
METHOD:PUBLISH
BEGIN:VEVENT
DTSTART:20260422T162731Z
DTEND:20260422T172731Z
DTSTAMP:20260424T223040Z
UID:740b8d22-5b07-4537-b094-8430f980144f
CREATED:20260424T223040Z
NAME:Herdenking Deest demaasenwaler.nl
X-WR-CALNAME:Herdenking Deest
X-ALT-DESC;FMTTYPE=text/html:<a href='/agenda/2026/5/4/herdenking-deest-61774'>/agenda/2026/5/4/herdenking-deest-61774</a> || <p>De herdenking vindt plaats bij het oorlogsmonument en begint om 19.45 uur.&nbsp;</p><p>Om 20.00 uur wordt er twee minuten stilte in acht genomen. Aansluitend is er een samenzijn in het dorpshuis.</p>
DESCRIPTION:<a href='/agenda/2026/5/4/herdenking-deest-61774'>/agenda/2026/5/4/herdenking-deest-61774</a> || <p>De herdenking vindt plaats bij het oorlogsmonument en begint om 19.45 uur.&nbsp;</p><p>Om 20.00 uur wordt er twee minuten stilte in acht genomen. Aansluitend is er een samenzijn in het dorpshuis.</p>
LAST-MODIFIED:20260424T223040Z
LOCATION: Oorlogsmunument | Kloosterhof null Deest
SEQUENCE:0
STATUS:CONFIRMED
SUMMARY:Herdenking Deest
TRANSP:OPAQUE
END:VEVENT
END:VCALENDAR
