BEGIN:VCALENDAR
PRODID:-//PUBBLE//agenda//NL
VERSION:2.0
METHOD:PUBLISH
BEGIN:VEVENT
DTSTART:20260422T161359Z
DTEND:20260422T171359Z
DTSTAMP:20260424T222843Z
UID:6eaa67c0-7906-4b5f-8e34-b1617a14eff6
CREATED:20260424T222843Z
NAME:Beneden-Leeuwen demaasenwaler.nl
X-WR-CALNAME:Beneden-Leeuwen
X-ALT-DESC;FMTTYPE=text/html:<a href='/agenda/2026/5/4/beneden-leeuwen-61771'>/agenda/2026/5/4/beneden-leeuwen-61771</a> || <p>De jaarlijkse herdenking begint in de H. Alphonsuskerk en wordt gevolgd door een stille tocht en een plechtigheid bij het monument.</p><p>De herdenking in de kerk wordt muzikaal ondersteund door muziekvereniging Koning Willem III. Betsie de Kok verzorgt het openingswoord. Tijdens de bijeenkomst worden verhalen van drie ooggetuigen voorgelezen en dragen leerlingen van basisschool De Leeuwenkuil een gedicht voor. Aansluitend wordt de stille tocht opgesteld onder leiding van Scouting Don Bosco. Bij het verlaten van de kerk wordt gecollecteerd voor de Stichting 4 Mei Herdenking Beneden-Leeuwen; dit kan contant of via een QR-code.</p><p>Om 19.40 uur vertrekt de stille tocht richting het monument. Daar start om 19.58 uur de plechtigheid met muziek en de taptoe, verzorgd door muziekvereniging Koning Willem III. Na twee minuten stilte volgt het dodenappèl, uitgesproken door Betsie de Kok. Ook klinkt een bijdrage van de Stoottroepenkapel.</p><p>Tijdens de ceremonie worden kransen gelegd en houdt wethouder Reuvers van de gemeente West Maas en Waal een toespraak. De herdenking wordt afgesloten met het Wilhelmus. Aansluitend vindt nog een kranslegging plaats bij het graf van Bas Kreeft bij de Stoottroepenkapel.</p><p>Bij slecht weer wordt de plechtigheid verplaatst naar de kerk.</p>
DESCRIPTION:<a href='/agenda/2026/5/4/beneden-leeuwen-61771'>/agenda/2026/5/4/beneden-leeuwen-61771</a> || <p>De jaarlijkse herdenking begint in de H. Alphonsuskerk en wordt gevolgd door een stille tocht en een plechtigheid bij het monument.</p><p>De herdenking in de kerk wordt muzikaal ondersteund door muziekvereniging Koning Willem III. Betsie de Kok verzorgt het openingswoord. Tijdens de bijeenkomst worden verhalen van drie ooggetuigen voorgelezen en dragen leerlingen van basisschool De Leeuwenkuil een gedicht voor. Aansluitend wordt de stille tocht opgesteld onder leiding van Scouting Don Bosco. Bij het verlaten van de kerk wordt gecollecteerd voor de Stichting 4 Mei Herdenking Beneden-Leeuwen; dit kan contant of via een QR-code.</p><p>Om 19.40 uur vertrekt de stille tocht richting het monument. Daar start om 19.58 uur de plechtigheid met muziek en de taptoe, verzorgd door muziekvereniging Koning Willem III. Na twee minuten stilte volgt het dodenappèl, uitgesproken door Betsie de Kok. Ook klinkt een bijdrage van de Stoottroepenkapel.</p><p>Tijdens de ceremonie worden kransen gelegd en houdt wethouder Reuvers van de gemeente West Maas en Waal een toespraak. De herdenking wordt afgesloten met het Wilhelmus. Aansluitend vindt nog een kranslegging plaats bij het graf van Bas Kreeft bij de Stoottroepenkapel.</p><p>Bij slecht weer wordt de plechtigheid verplaatst naar de kerk.</p>
LAST-MODIFIED:20260424T222843Z
LOCATION: H. Alphonsuskerk |   Beneden-Leeuwen
SEQUENCE:0
STATUS:CONFIRMED
SUMMARY:Beneden-Leeuwen
TRANSP:OPAQUE
END:VEVENT
END:VCALENDAR
