BEGIN:VCALENDAR
PRODID:-//PUBBLE//agenda//NL
VERSION:2.0
METHOD:PUBLISH
BEGIN:VEVENT
DTSTART:20260422T160606Z
DTEND:20260422T170606Z
DTSTAMP:20260424T223142Z
UID:3a43e078-cf7e-4585-a128-80ddd010a778
CREATED:20260424T223142Z
NAME:Herdenking Bergharen demaasenwaler.nl
X-WR-CALNAME:Herdenking Bergharen
X-ALT-DESC;FMTTYPE=text/html:<a href='/agenda/2026/5/4/herdenking-bergharen-61770'>/agenda/2026/5/4/herdenking-bergharen-61770</a> || <p pstyle="Tussenkop">De bijeenkomst begint om 19.00 uur en is voor iedereen toegankelijk.&nbsp;</p><p pstyle="Tussenkop">Na afloop volgt een stille tocht naar de Protestantse kerk, waar om 20.00 uur twee minuten stilte gehouden wordt. Afsluitend is er een bijeenkomst in de kerk.</p>
DESCRIPTION:<a href='/agenda/2026/5/4/herdenking-bergharen-61770'>/agenda/2026/5/4/herdenking-bergharen-61770</a> || <p pstyle="Tussenkop">De bijeenkomst begint om 19.00 uur en is voor iedereen toegankelijk.&nbsp;</p><p pstyle="Tussenkop">Na afloop volgt een stille tocht naar de Protestantse kerk, waar om 20.00 uur twee minuten stilte gehouden wordt. Afsluitend is er een bijeenkomst in de kerk.</p>
LAST-MODIFIED:20260424T223142Z
LOCATION: Protestantse kerk | Veldsestraat  12 Bergharen
SEQUENCE:0
STATUS:CONFIRMED
SUMMARY:Herdenking Bergharen
TRANSP:OPAQUE
END:VEVENT
END:VCALENDAR
