BEGIN:VCALENDAR
PRODID:-//PUBBLE//agenda//NL
VERSION:2.0
METHOD:PUBLISH
BEGIN:VEVENT
DTSTART:20260422T155501Z
DTEND:20260422T165501Z
DTSTAMP:20260424T223142Z
UID:e379b8ff-6057-4122-a02f-44cb75f9f492
CREATED:20260424T223142Z
NAME:Herdenking Appeltern demaasenwaler.nl
X-WR-CALNAME:Herdenking Appeltern
X-ALT-DESC;FMTTYPE=text/html:<a href='/agenda/2026/5/4/herdenking-appeltern-61769'>/agenda/2026/5/4/herdenking-appeltern-61769</a> || <p>Jaarlijks staan wij 4 mei stil bij allen, die omgekomen zijn in oorlogen en vredesoperaties. Dit item was iets uit de geschiedenisboeken, maar is tot onze grote ontsteltenis nu actueler dan ooit en oorlog lijkt steeds dichterbij te komen.</p><p>In Appeltern wordt hierbij stilgestaan met een kleine ceremonie op de dijk bij de oorlogsgedenksteen bij de kerk.</p><p>Om 19.50 uur beginnen de kerkklokken te luiden om een ieder uit te nodigen naar de dijk te komen.</p><p>Om 20.00 uur worden twee minuten stilte in acht genomen. In de eerste minuut denken wij aan de overledenen&nbsp;en in de tweede minuut aan de overlevenden, mensen die zich ingezet hebben in de strijd en dit overleefd hebben.</p><p>Vervolgens zal de tienjarige Silven van der Vorst met zijn trompet The Last Post ten gehore brengen.&nbsp;</p><p>Vanuit de gemeente zal Cees Roffelsenspreken een toespraak houden en een grafstuk leggen bij de gedenksteen.</p><p>Janny Wassenburg heeft een prachtig gedicht voor deze gelegenheid gemaakt, ‘Appeltern herdenkt’. Dit zal worden voorgedragen en daarna met een kaars bij de gedenksteen geplaatst worden. Tot slot sluit Silven af met ons volkslied Het Wilhelmus.</p>
DESCRIPTION:<a href='/agenda/2026/5/4/herdenking-appeltern-61769'>/agenda/2026/5/4/herdenking-appeltern-61769</a> || <p>Jaarlijks staan wij 4 mei stil bij allen, die omgekomen zijn in oorlogen en vredesoperaties. Dit item was iets uit de geschiedenisboeken, maar is tot onze grote ontsteltenis nu actueler dan ooit en oorlog lijkt steeds dichterbij te komen.</p><p>In Appeltern wordt hierbij stilgestaan met een kleine ceremonie op de dijk bij de oorlogsgedenksteen bij de kerk.</p><p>Om 19.50 uur beginnen de kerkklokken te luiden om een ieder uit te nodigen naar de dijk te komen.</p><p>Om 20.00 uur worden twee minuten stilte in acht genomen. In de eerste minuut denken wij aan de overledenen&nbsp;en in de tweede minuut aan de overlevenden, mensen die zich ingezet hebben in de strijd en dit overleefd hebben.</p><p>Vervolgens zal de tienjarige Silven van der Vorst met zijn trompet The Last Post ten gehore brengen.&nbsp;</p><p>Vanuit de gemeente zal Cees Roffelsenspreken een toespraak houden en een grafstuk leggen bij de gedenksteen.</p><p>Janny Wassenburg heeft een prachtig gedicht voor deze gelegenheid gemaakt, ‘Appeltern herdenkt’. Dit zal worden voorgedragen en daarna met een kaars bij de gedenksteen geplaatst worden. Tot slot sluit Silven af met ons volkslied Het Wilhelmus.</p>
LAST-MODIFIED:20260424T223142Z
LOCATION: Sint Servatius Kerk | Maasdijk 26 Appeltern
SEQUENCE:0
STATUS:CONFIRMED
SUMMARY:Herdenking Appeltern
TRANSP:OPAQUE
END:VEVENT
END:VCALENDAR
