BEGIN:VCALENDAR
PRODID:-//PUBBLE//agenda//NL
VERSION:2.0
METHOD:PUBLISH
BEGIN:VEVENT
DTSTART:20260422T154840Z
DTEND:20260422T164840Z
DTSTAMP:20260424T222822Z
UID:7d6b4603-c44d-4b1f-a0bd-9ccc64c6ef79
CREATED:20260424T222822Z
NAME:Herdenking Alphen demaasenwaler.nl
X-WR-CALNAME:Herdenking Alphen
X-ALT-DESC;FMTTYPE=text/html:<a href='/agenda/2026/5/4/herdenking-alphen-61768'>/agenda/2026/5/4/herdenking-alphen-61768</a> || <p>Om 19.15 uur is er een herdenkingsbijeenkomst in de St Lambertus Kerk, verzorgd door het Oranje Comité Alphen en de avondwake groep.</p><p>Na de bijeenkomst gaan de bezoekers om 19.50 uur met stille trom naar het monument van Martien Derks nabij de kerk om alle oorlogsslachtoffers te herdenken.</p><p>Namens de Gemeente West Maas en Waal en namens alle Alphenaren worden er bloemstukken bij het monument gelegd. Burgemeester Van Neerbos houdt de herdenkingstoespraak en Elly Engelbart-Derks draagt een gedicht voor. Muziekvereniging Alphen/Dreumel verzorgt de The Last Post. Aansluitend 2 minuten stilte. De muziekvereniging sluit af met het Wilhelmus.</p>
DESCRIPTION:<a href='/agenda/2026/5/4/herdenking-alphen-61768'>/agenda/2026/5/4/herdenking-alphen-61768</a> || <p>Om 19.15 uur is er een herdenkingsbijeenkomst in de St Lambertus Kerk, verzorgd door het Oranje Comité Alphen en de avondwake groep.</p><p>Na de bijeenkomst gaan de bezoekers om 19.50 uur met stille trom naar het monument van Martien Derks nabij de kerk om alle oorlogsslachtoffers te herdenken.</p><p>Namens de Gemeente West Maas en Waal en namens alle Alphenaren worden er bloemstukken bij het monument gelegd. Burgemeester Van Neerbos houdt de herdenkingstoespraak en Elly Engelbart-Derks draagt een gedicht voor. Muziekvereniging Alphen/Dreumel verzorgt de The Last Post. Aansluitend 2 minuten stilte. De muziekvereniging sluit af met het Wilhelmus.</p>
LAST-MODIFIED:20260424T222822Z
LOCATION: RK St. Lambertuskerk |   Alphen
SEQUENCE:0
STATUS:CONFIRMED
SUMMARY:Herdenking Alphen
TRANSP:OPAQUE
END:VEVENT
END:VCALENDAR
