BEGIN:VCALENDAR
PRODID:-//PUBBLE//agenda//NL
VERSION:2.0
METHOD:PUBLISH
BEGIN:VEVENT
DTSTART:20260422T142028Z
DTEND:20260422T152028Z
DTSTAMP:20260424T223040Z
UID:457573c9-f77c-4ef2-96f1-d6eaecb0bca9
CREATED:20260424T223040Z
NAME:Luisterkring Beneden-Leeuwen demaasenwaler.nl
X-WR-CALNAME:Luisterkring Beneden-Leeuwen
X-ALT-DESC;FMTTYPE=text/html:<a href='/agenda/2026/5/4/luisterkring-beneden-leeuwen-61767'>/agenda/2026/5/4/luisterkring-beneden-leeuwen-61767</a> || <p class="plattetekst" pstyle="platte tekst">BENEDEN-LEEUWEN - Iedere eerste vrijdag van de maand kunnen muziekliefhebbers naar klassieke muziek komen luisteren in het gebouw van de 50-plusvereniging Beneden-Leeuwen, Ons Huukske, aan de Zonnebloemstraat 3.</p><p class="plattetekst" pstyle="platte tekst">De eerstvolgende bijeenkomst is op maandag 4 mei, van 10.00 tot 12.00 uur. Dit keer staat de muziek van Modest Moessorgsky (1839-1881) op het programma.</p><p>Iedereen is welkom om de ochtend bij te wonen, ook niet-leden. De kosten bedragen 3,50 euro (4,50 euro voor niet-leden), inclusief een kop koffie of thee. Het tweede kopje kost 1 euro. Neem bij vragen over de luisterkring contact op met Gerrie Wouters, via tel. 06-30 16 19 22 of per e-mail: wouros@gmail.com. Meer informatie over de vereniging en de verschillende activiteiten, zie: seniorenleeuwen.nl.</p>
DESCRIPTION:<a href='/agenda/2026/5/4/luisterkring-beneden-leeuwen-61767'>/agenda/2026/5/4/luisterkring-beneden-leeuwen-61767</a> || <p class="plattetekst" pstyle="platte tekst">BENEDEN-LEEUWEN - Iedere eerste vrijdag van de maand kunnen muziekliefhebbers naar klassieke muziek komen luisteren in het gebouw van de 50-plusvereniging Beneden-Leeuwen, Ons Huukske, aan de Zonnebloemstraat 3.</p><p class="plattetekst" pstyle="platte tekst">De eerstvolgende bijeenkomst is op maandag 4 mei, van 10.00 tot 12.00 uur. Dit keer staat de muziek van Modest Moessorgsky (1839-1881) op het programma.</p><p>Iedereen is welkom om de ochtend bij te wonen, ook niet-leden. De kosten bedragen 3,50 euro (4,50 euro voor niet-leden), inclusief een kop koffie of thee. Het tweede kopje kost 1 euro. Neem bij vragen over de luisterkring contact op met Gerrie Wouters, via tel. 06-30 16 19 22 of per e-mail: wouros@gmail.com. Meer informatie over de vereniging en de verschillende activiteiten, zie: seniorenleeuwen.nl.</p>
LAST-MODIFIED:20260424T223040Z
LOCATION: Ons Huukske | zonnebloemstraat 3 Beneden-Leeuwen
SEQUENCE:0
STATUS:CONFIRMED
SUMMARY:Luisterkring Beneden-Leeuwen
TRANSP:OPAQUE
END:VEVENT
END:VCALENDAR
