BEGIN:VCALENDAR
PRODID:-//PUBBLE//agenda//NL
VERSION:2.0
METHOD:PUBLISH
BEGIN:VEVENT
DTSTART:20260422T141013Z
DTEND:20260422T151013Z
DTSTAMP:20260424T210409Z
UID:4a3e639d-d214-4da8-be93-51522f156056
CREATED:20260424T210409Z
NAME:Luisterkring Druten demaasenwaler.nl
X-WR-CALNAME:Luisterkring Druten
X-ALT-DESC;FMTTYPE=text/html:<a href='/agenda/2026/5/1/luisterkring-druten-61766'>/agenda/2026/5/1/luisterkring-druten-61766</a> || <p>DRUTEN - Op iedere eerste vrijdag van de maand kan men naar klassieke muziek komen luisteren in het Droniogebouw, Kerkeland 7b.&nbsp;</p><p>De eerstvolgende bijeenkomst is op vrijdag 1 mei, van 10.00 tot 12.00 uur. Dit keer staat de muziek van van Modest Moessorgsky (1839-1881) op het programma. Iedereen is welkom om de ochtend bij te wonen, ook niet Dronio-leden. De toegang is gratis; voor kopieerkosten betaalt men 1 euro en voor twee kopjes koffie of thee 2 euro. Neem voor meer informatie contact op met Gerrie Wouters, via telefoon: 06 - 30 16 19 22 of per e-mail: <a href="mailto:wouros@gmail.com">wouros@gmail.com</a>.</p>
DESCRIPTION:<a href='/agenda/2026/5/1/luisterkring-druten-61766'>/agenda/2026/5/1/luisterkring-druten-61766</a> || <p>DRUTEN - Op iedere eerste vrijdag van de maand kan men naar klassieke muziek komen luisteren in het Droniogebouw, Kerkeland 7b.&nbsp;</p><p>De eerstvolgende bijeenkomst is op vrijdag 1 mei, van 10.00 tot 12.00 uur. Dit keer staat de muziek van van Modest Moessorgsky (1839-1881) op het programma. Iedereen is welkom om de ochtend bij te wonen, ook niet Dronio-leden. De toegang is gratis; voor kopieerkosten betaalt men 1 euro en voor twee kopjes koffie of thee 2 euro. Neem voor meer informatie contact op met Gerrie Wouters, via telefoon: 06 - 30 16 19 22 of per e-mail: <a href="mailto:wouros@gmail.com">wouros@gmail.com</a>.</p>
LAST-MODIFIED:20260424T210409Z
LOCATION: Dronio | Kerkeland 7B Druten
SEQUENCE:0
STATUS:CONFIRMED
SUMMARY:Luisterkring Druten
TRANSP:OPAQUE
END:VEVENT
END:VCALENDAR
