BEGIN:VCALENDAR
PRODID:-//PUBBLE//agenda//NL
VERSION:2.0
METHOD:PUBLISH
BEGIN:VEVENT
DTSTART:20260422T135415Z
DTEND:20260422T145415Z
DTSTAMP:20260424T222755Z
UID:015ce205-d413-4e46-8d77-b4e063f5fb97
CREATED:20260424T222755Z
NAME:Strandjut-struintocht demaasenwaler.nl
X-WR-CALNAME:Strandjut-struintocht
X-ALT-DESC;FMTTYPE=text/html:<a href='/agenda/2026/5/6/strandjut-struintocht-61765'>/agenda/2026/5/6/strandjut-struintocht-61765</a> || <p>Het Waalstrand in Beuningen is bezaaid met aangespoelde schatten. Welke jutter trekt woensdag 6 mei de (stevige) stoute schoenen aan, om ze te verzamelen? Je krijgt van Het Dijkmagazijn een loep om de mooiste vondsten te vinden en een schatkist om ze te verzamelen als een echte piraat.</p><p>Het water brengt van alles aan land. Grillige stukken hout, mooie stenen, glinsterende kiezels en misschien wel een stuk van een visnet. Soms zelfs scherven van hele oude potten en kruiken. Waar zou het allemaal vandaan zijn gekomen? Van een schip, of uit een ver land… Een echte jutter vindt de mooiste schatten, en bewaart die schatten. De gidsen weten van de sommige vondsten wel te vertellen wat het is en waar het vandaan komt. De uitdaging is natuurlijk iets te vinden dat een groot raadsel is. Wie kan daar een geloofwaardig verhaal bij bedenken? Tip: trek stevig schoeisel aan en kleding die vies mag worden. Deze activiteit is mogelijk gemaakt door gem. Beuningen.&nbsp;</p><p>Waalwoemi: Strandjut-struintocht, woensdag 6 mei van 15.00-16.30 uur. Startpunt Het Dijkmagazijn, Dijk 41, 6641 LA Beuningen. Max. 20 kinderen tussen 5 en 12 jaar, deelname € 3,50, gratis via Klavervierpas. Begeleiding door (groot)-ouders/opvoeders is gewenst en ze mogen gratis meedoen. Aanmelden via www.dijkmagazijnbeuningen.nl.</p>
DESCRIPTION:<a href='/agenda/2026/5/6/strandjut-struintocht-61765'>/agenda/2026/5/6/strandjut-struintocht-61765</a> || <p>Het Waalstrand in Beuningen is bezaaid met aangespoelde schatten. Welke jutter trekt woensdag 6 mei de (stevige) stoute schoenen aan, om ze te verzamelen? Je krijgt van Het Dijkmagazijn een loep om de mooiste vondsten te vinden en een schatkist om ze te verzamelen als een echte piraat.</p><p>Het water brengt van alles aan land. Grillige stukken hout, mooie stenen, glinsterende kiezels en misschien wel een stuk van een visnet. Soms zelfs scherven van hele oude potten en kruiken. Waar zou het allemaal vandaan zijn gekomen? Van een schip, of uit een ver land… Een echte jutter vindt de mooiste schatten, en bewaart die schatten. De gidsen weten van de sommige vondsten wel te vertellen wat het is en waar het vandaan komt. De uitdaging is natuurlijk iets te vinden dat een groot raadsel is. Wie kan daar een geloofwaardig verhaal bij bedenken? Tip: trek stevig schoeisel aan en kleding die vies mag worden. Deze activiteit is mogelijk gemaakt door gem. Beuningen.&nbsp;</p><p>Waalwoemi: Strandjut-struintocht, woensdag 6 mei van 15.00-16.30 uur. Startpunt Het Dijkmagazijn, Dijk 41, 6641 LA Beuningen. Max. 20 kinderen tussen 5 en 12 jaar, deelname € 3,50, gratis via Klavervierpas. Begeleiding door (groot)-ouders/opvoeders is gewenst en ze mogen gratis meedoen. Aanmelden via www.dijkmagazijnbeuningen.nl.</p>
LAST-MODIFIED:20260424T222755Z
LOCATION: Het Dijkmagazijn | Dijk 41 Beuningen
SEQUENCE:0
STATUS:CONFIRMED
SUMMARY:Strandjut-struintocht
TRANSP:OPAQUE
END:VEVENT
END:VCALENDAR
