BEGIN:VCALENDAR
PRODID:-//PUBBLE//agenda//NL
VERSION:2.0
METHOD:PUBLISH
BEGIN:VEVENT
DTSTART:20260422T130539Z
DTEND:20260422T140539Z
DTSTAMP:20260424T210339Z
UID:1fc6f612-2b6e-4452-8487-5a8f870e2643
CREATED:20260424T210339Z
NAME:Op stap met de boswachter van kasteel Hernen demaasenwaler.nl
X-WR-CALNAME:Op stap met de boswachter van kasteel Hernen
X-ALT-DESC;FMTTYPE=text/html:<a href='/agenda/2026/4/30/op-stap-met-de-boswachter-van-kasteel-hernen-61763'>/agenda/2026/4/30/op-stap-met-de-boswachter-van-kasteel-hernen-61763</a> || <p>Kasteel Hernen nodigt jonge bezoekers uit om samen met de boswachter op pad te gaan om van alles buiten het kasteel te ontdekken.&nbsp;</p><p>Met wandelschoenen of laarzen, met of zonder jas - de boswachter vertelt van alles en laat van alles zien over de omringende natuur. De boswachtertochten vinden plaats op donderdag 23 en 30 april en 5 mei en starten telkens om 14.30 uur, na een bezoek aan het kasteel. Voor meer informatie en kaarten, zie: <a href="https://www.glk.nl/hernen/kasteel-hernen" target="_blank">www.glk.nl/hernen/kasteel-hernen</a>.</p>
DESCRIPTION:<a href='/agenda/2026/4/30/op-stap-met-de-boswachter-van-kasteel-hernen-61763'>/agenda/2026/4/30/op-stap-met-de-boswachter-van-kasteel-hernen-61763</a> || <p>Kasteel Hernen nodigt jonge bezoekers uit om samen met de boswachter op pad te gaan om van alles buiten het kasteel te ontdekken.&nbsp;</p><p>Met wandelschoenen of laarzen, met of zonder jas - de boswachter vertelt van alles en laat van alles zien over de omringende natuur. De boswachtertochten vinden plaats op donderdag 23 en 30 april en 5 mei en starten telkens om 14.30 uur, na een bezoek aan het kasteel. Voor meer informatie en kaarten, zie: <a href="https://www.glk.nl/hernen/kasteel-hernen" target="_blank">www.glk.nl/hernen/kasteel-hernen</a>.</p>
LAST-MODIFIED:20260424T210339Z
LOCATION: Kasteel Hernen | Dorpsstraat 40 Hernen
SEQUENCE:0
STATUS:CONFIRMED
SUMMARY:Op stap met de boswachter van kasteel Hernen
TRANSP:OPAQUE
END:VEVENT
END:VCALENDAR
