BEGIN:VCALENDAR
PRODID:-//PUBBLE//agenda//NL
VERSION:2.0
METHOD:PUBLISH
BEGIN:VEVENT
DTSTART:20260421T145512Z
DTEND:20260426T120000Z
DTSTAMP:20260424T163107Z
UID:5f600f6d-ca45-4456-bba7-8bc2f1d6f061
CREATED:20260424T163107Z
NAME:Samen schrijven demaasenwaler.nl
X-WR-CALNAME:Samen schrijven
X-ALT-DESC;FMTTYPE=text/html:<a href='/agenda/2026/4/26/samen-schrijven-61758'>/agenda/2026/4/26/samen-schrijven-61758</a> || <p>In aansluiting op een rondreizende tentoonstelling van de Protestantse Gemeente Rivierenland Oost worden er schrijfactiviteiten georganiseerd rond het thema ‘Verwondering’. De tentoonstelling toont creatief werk van betrokkenen die laten zien wat voor hen van waarde is in het leven.&nbsp;</p><p>Deelname aan de schrijfsessies is vrijblijvend. Het is mogelijk om zowel één als meerdere keren aan te sluiten. De bijeenkomsten vinden plaats op 26 april in de Protestantse kerk in Beuningen, 3 mei in de Protestantse kerk in Druten en 10 mei in De Schakel in Wijchen, van 12.00 tot 14.00 uur.&nbsp;</p><p>Voor meer informatie, neem contact op met Gerard Strien, via telefoon: 06-54682155 of per e-mail: gjmstrien@hotmail.com.</p>
DESCRIPTION:<a href='/agenda/2026/4/26/samen-schrijven-61758'>/agenda/2026/4/26/samen-schrijven-61758</a> || <p>In aansluiting op een rondreizende tentoonstelling van de Protestantse Gemeente Rivierenland Oost worden er schrijfactiviteiten georganiseerd rond het thema ‘Verwondering’. De tentoonstelling toont creatief werk van betrokkenen die laten zien wat voor hen van waarde is in het leven.&nbsp;</p><p>Deelname aan de schrijfsessies is vrijblijvend. Het is mogelijk om zowel één als meerdere keren aan te sluiten. De bijeenkomsten vinden plaats op 26 april in de Protestantse kerk in Beuningen, 3 mei in de Protestantse kerk in Druten en 10 mei in De Schakel in Wijchen, van 12.00 tot 14.00 uur.&nbsp;</p><p>Voor meer informatie, neem contact op met Gerard Strien, via telefoon: 06-54682155 of per e-mail: gjmstrien@hotmail.com.</p>
LAST-MODIFIED:20260424T163107Z
LOCATION: Protestantse kerk Beuningen | Kerkplein 7 Beuningen
SEQUENCE:0
STATUS:CONFIRMED
SUMMARY:Samen schrijven
TRANSP:OPAQUE
END:VEVENT
END:VCALENDAR
