BEGIN:VCALENDAR
PRODID:-//PUBBLE//agenda//NL
VERSION:2.0
METHOD:PUBLISH
BEGIN:VEVENT
DTSTART:20260421T144619Z
DTEND:20260421T154619Z
DTSTAMP:20260424T212343Z
UID:9cd654c8-30b0-4fbf-8974-cd8899e03bfe
CREATED:20260424T212343Z
NAME:Toneelvereniging Plankenkoorts: ‘Puinhoop in de Kringloop’ demaasenwaler.nl
X-WR-CALNAME:Toneelvereniging Plankenkoorts: ‘Puinhoop in de Kringloop’
X-ALT-DESC;FMTTYPE=text/html:<a href='/agenda/2026/5/2/toneelvereniging-plankenkoorts-puinhoop-in-de-kringloop-61751'>/agenda/2026/5/2/toneelvereniging-plankenkoorts-puinhoop-in-de-kringloop-61751</a> || <p>Voor iedereen die zin heeft in een ‘ouderwets avondje lachen’ voert Toneelvereniging Plankenkoorts uit Winssen in het eerste weekend van mei een nieuwe klucht op. ‘Puinhoop in de Kringloop’ is op 1 en 2 mei in Ontmoetingscentrum De Paulus te zien om 20.00 uur. De matineevoorstelling op 3 mei vindt plaats om 14.00 uur.</p><p>Het komische toneelstuk gaat over Trea, eigenaresse van een kringloop waar het - de naam zegt het al - een puinhoop is. De zaak leidt al jaren verlies, tot op een dag blijkt dat klant Babette op het tv-programma ‘Tussen Kunst &amp; Kitsch’ een enorm bedrag ontvangt voor een goedkoop gekocht kommetje uit de kringloop van Trea. Dan is de maat vol: Trea huurt een taxateur in. Deze komt samen met haar assistente de hele kringloop doorspitten, op zoek naar schatten. Maar is deze taxateur eigenlijk wel eerlijk? Al snel lijkt het allemaal een verloren zaak voor de winkel. Van flinke financiële missers tot het aannemen van ongure en misschien zelfs gevaarlijke types en bijzondere klanten met rare vragen - hoe krijgt Trea dit ooit nog oplost?</p><p>Kaarten voor de voorstelling bedragen 12,50 euro, inclusief een kopje koffie of thee. <a href="http://www.toneelverenigingplankenkoorts.nl" rel="noopener noreferrer" target="_blank">Kaarten zijn te bestellen via de website van de toneelvereniging.</a></p>
DESCRIPTION:<a href='/agenda/2026/5/2/toneelvereniging-plankenkoorts-puinhoop-in-de-kringloop-61751'>/agenda/2026/5/2/toneelvereniging-plankenkoorts-puinhoop-in-de-kringloop-61751</a> || <p>Voor iedereen die zin heeft in een ‘ouderwets avondje lachen’ voert Toneelvereniging Plankenkoorts uit Winssen in het eerste weekend van mei een nieuwe klucht op. ‘Puinhoop in de Kringloop’ is op 1 en 2 mei in Ontmoetingscentrum De Paulus te zien om 20.00 uur. De matineevoorstelling op 3 mei vindt plaats om 14.00 uur.</p><p>Het komische toneelstuk gaat over Trea, eigenaresse van een kringloop waar het - de naam zegt het al - een puinhoop is. De zaak leidt al jaren verlies, tot op een dag blijkt dat klant Babette op het tv-programma ‘Tussen Kunst &amp; Kitsch’ een enorm bedrag ontvangt voor een goedkoop gekocht kommetje uit de kringloop van Trea. Dan is de maat vol: Trea huurt een taxateur in. Deze komt samen met haar assistente de hele kringloop doorspitten, op zoek naar schatten. Maar is deze taxateur eigenlijk wel eerlijk? Al snel lijkt het allemaal een verloren zaak voor de winkel. Van flinke financiële missers tot het aannemen van ongure en misschien zelfs gevaarlijke types en bijzondere klanten met rare vragen - hoe krijgt Trea dit ooit nog oplost?</p><p>Kaarten voor de voorstelling bedragen 12,50 euro, inclusief een kopje koffie of thee. <a href="http://www.toneelverenigingplankenkoorts.nl" rel="noopener noreferrer" target="_blank">Kaarten zijn te bestellen via de website van de toneelvereniging.</a></p>
LAST-MODIFIED:20260424T212343Z
LOCATION: De Paulus |   Winssen
SEQUENCE:0
STATUS:CONFIRMED
SUMMARY:Toneelvereniging Plankenkoorts: ‘Puinhoop in de Kringloop’
TRANSP:OPAQUE
END:VEVENT
END:VCALENDAR
