BEGIN:VCALENDAR
PRODID:-//PUBBLE//agenda//NL
VERSION:2.0
METHOD:PUBLISH
BEGIN:VEVENT
DTSTART:20260527T073000Z
DTEND:20260527T090000Z
DTSTAMP:20260424T222732Z
UID:203d8240-4a75-4ea0-aa73-fe707e2755e6
CREATED:20260424T222732Z
NAME:Spelen & Ontmoeten – Speengebruik en duimzuigen demaasenwaler.nl
X-WR-CALNAME:Spelen & Ontmoeten – Speengebruik en duimzuigen
X-ALT-DESC;FMTTYPE=text/html:<a href='/agenda/2026/5/27/spelen-ontmoeten-speengebruik-en-duimzuigen-61681'>/agenda/2026/5/27/spelen-ontmoeten-speengebruik-en-duimzuigen-61681</a> || <p>Op woensdagochtend 27 mei van 09.30 11.00 uur zijn jonge ouders en hun kinderen tot 4 jaar van harte welkom bij Spelen &amp; Ontmoeten: een gezellige, gratis bijeenkomst om samen te spelen, praten en ervaringen te delen. &nbsp;&nbsp;</p><p>Deze bijeenkomst van Spelen &amp; Ontmoeten staat in het teken van speengebruik en duimzuigen en vindt plaats in Dorpshuis De Schuur, Kerkstraat 25, Appeltern.&nbsp;</p><p>De ochtend wordt verzorgd door Josefine van Heijst van Logopediepraktijk Appeltern. Josefine komt langs samen met aap Silas en leest voor uit het prentenboek ‘Silas slaapt zonder speen’. Stoppen met de speen is soms best lastig, maar Silas laat zien dat het ook iets is om supertrots op te zijn. Daarnaast vertelt Josefine op een begrijpelijke manier waarom het voor de spraak- en taalontwikkeling én voor het gebit belangrijk is om op tijd te stoppen met zuigen op een speen of op een duim of vinger. Ze geeft handige tips om het zuigen rustig af te bouwen. Natuurlijk is er ook ruimte om vragen te stellen en ervaringen te delen over de speen of het duimen.&nbsp;</p><p>Ook is er volop ruimte om andere ouders te ontmoeten, ervaringen uit te wisselen en te genieten van een kop koffie of thee. Voor de kinderen is er speelgoed om mee te spelen terwijl jij in gesprek bent met andere ouders. Spelen &amp; Ontmoeten vindt elke maand plaats, steeds met een ander thema. Denk aan onderwerpen zoals samen bewegen, voorlezen, voeding en meer. De toegang is gratis – voor koffie, thee en speelgoed wordt gezorgd. Aanmelden is niet nodig: iedereen is welkom.</p>
DESCRIPTION:<a href='/agenda/2026/5/27/spelen-ontmoeten-speengebruik-en-duimzuigen-61681'>/agenda/2026/5/27/spelen-ontmoeten-speengebruik-en-duimzuigen-61681</a> || <p>Op woensdagochtend 27 mei van 09.30 11.00 uur zijn jonge ouders en hun kinderen tot 4 jaar van harte welkom bij Spelen &amp; Ontmoeten: een gezellige, gratis bijeenkomst om samen te spelen, praten en ervaringen te delen. &nbsp;&nbsp;</p><p>Deze bijeenkomst van Spelen &amp; Ontmoeten staat in het teken van speengebruik en duimzuigen en vindt plaats in Dorpshuis De Schuur, Kerkstraat 25, Appeltern.&nbsp;</p><p>De ochtend wordt verzorgd door Josefine van Heijst van Logopediepraktijk Appeltern. Josefine komt langs samen met aap Silas en leest voor uit het prentenboek ‘Silas slaapt zonder speen’. Stoppen met de speen is soms best lastig, maar Silas laat zien dat het ook iets is om supertrots op te zijn. Daarnaast vertelt Josefine op een begrijpelijke manier waarom het voor de spraak- en taalontwikkeling én voor het gebit belangrijk is om op tijd te stoppen met zuigen op een speen of op een duim of vinger. Ze geeft handige tips om het zuigen rustig af te bouwen. Natuurlijk is er ook ruimte om vragen te stellen en ervaringen te delen over de speen of het duimen.&nbsp;</p><p>Ook is er volop ruimte om andere ouders te ontmoeten, ervaringen uit te wisselen en te genieten van een kop koffie of thee. Voor de kinderen is er speelgoed om mee te spelen terwijl jij in gesprek bent met andere ouders. Spelen &amp; Ontmoeten vindt elke maand plaats, steeds met een ander thema. Denk aan onderwerpen zoals samen bewegen, voorlezen, voeding en meer. De toegang is gratis – voor koffie, thee en speelgoed wordt gezorgd. Aanmelden is niet nodig: iedereen is welkom.</p>
LAST-MODIFIED:20260424T222732Z
LOCATION: Dorpshuis De Schuur | Kerkstraat 25 Appeltern
SEQUENCE:0
STATUS:CONFIRMED
SUMMARY:Spelen & Ontmoeten – Speengebruik en duimzuigen
TRANSP:OPAQUE
END:VEVENT
END:VCALENDAR
