BEGIN:VCALENDAR
PRODID:-//PUBBLE//agenda//NL
VERSION:2.0
METHOD:PUBLISH
BEGIN:VEVENT
DTSTART:20260420T135031Z
DTEND:20260420T145031Z
DTSTAMP:20260424T082343Z
UID:6f244a41-bf7d-4f41-8864-49ee3fe7feb3
CREATED:20260424T082343Z
NAME:Vrijpop ‘Thuis Bij de Zaak Festival’ demaasenwaler.nl
X-WR-CALNAME:Vrijpop ‘Thuis Bij de Zaak Festival’
X-ALT-DESC;FMTTYPE=text/html:<a href='/agenda/2026/5/2/vrijpop-thuis-bij-de-zaak-festival-61679'>/agenda/2026/5/2/vrijpop-thuis-bij-de-zaak-festival-61679</a> || <p>Vrijpop Beuningen is dit jaar vier dagen lang: van 2 tot en met 5 mei staat Beuningen in het teken van vrijheid.&nbsp;</p><p>Zaterdag 2 mei gaat Vrijpop om 15.00 uur van start met het ‘Thuis Bij de Zaak festival’, met op het programma onder andere Q-Music (de Foute Party), Henk Dissel en DJ Mike. Kaarten kosten 22,50 euro.</p><p>Zondag 3 mei is er tussen 14.00 en 22.00 uur een Familiefestijn met optredens van Alex &amp; Friends en SLAMM!. Maandag 4 mei is de traditionele dodenherdenking; op dinsdag 5 mei vieren we dat we in Nederland in vrijheid leven. Op het programma van het Bevrijdingsfestival staan Aquiztic, Gino Graus, Kids Carrousel en Kaliber.&nbsp;</p><p>Voor meer informatie, zie de sociale media van het festival: @vrijpop op <a href="https://www.facebook.com/vrijpop/" rel="noopener noreferrer" target="_blank">Facebook</a> en Instagram.</p>
DESCRIPTION:<a href='/agenda/2026/5/2/vrijpop-thuis-bij-de-zaak-festival-61679'>/agenda/2026/5/2/vrijpop-thuis-bij-de-zaak-festival-61679</a> || <p>Vrijpop Beuningen is dit jaar vier dagen lang: van 2 tot en met 5 mei staat Beuningen in het teken van vrijheid.&nbsp;</p><p>Zaterdag 2 mei gaat Vrijpop om 15.00 uur van start met het ‘Thuis Bij de Zaak festival’, met op het programma onder andere Q-Music (de Foute Party), Henk Dissel en DJ Mike. Kaarten kosten 22,50 euro.</p><p>Zondag 3 mei is er tussen 14.00 en 22.00 uur een Familiefestijn met optredens van Alex &amp; Friends en SLAMM!. Maandag 4 mei is de traditionele dodenherdenking; op dinsdag 5 mei vieren we dat we in Nederland in vrijheid leven. Op het programma van het Bevrijdingsfestival staan Aquiztic, Gino Graus, Kids Carrousel en Kaliber.&nbsp;</p><p>Voor meer informatie, zie de sociale media van het festival: @vrijpop op <a href="https://www.facebook.com/vrijpop/" rel="noopener noreferrer" target="_blank">Facebook</a> en Instagram.</p>
LAST-MODIFIED:20260424T082343Z
LOCATION: Café de Zaak |   Beuningen
SEQUENCE:0
STATUS:CONFIRMED
SUMMARY:Vrijpop ‘Thuis Bij de Zaak Festival’
TRANSP:OPAQUE
END:VEVENT
END:VCALENDAR
