BEGIN:VCALENDAR
PRODID:-//PUBBLE//agenda//NL
VERSION:2.0
METHOD:PUBLISH
BEGIN:VEVENT
DTSTART:20260420T130238Z
DTEND:20260420T140238Z
DTSTAMP:20260424T210014Z
UID:8358b4bc-032f-4a17-8970-213bebe8956e
CREATED:20260424T210014Z
NAME:Bingo Ewijk demaasenwaler.nl
X-WR-CALNAME:Bingo Ewijk
X-ALT-DESC;FMTTYPE=text/html:<a href='/agenda/2026/4/24/bingo-ewijk-61677'>/agenda/2026/4/24/bingo-ewijk-61677</a> || <p>De Seniorenvereniging van Ewijk houdt op vrijdag 24 april weer een bingomiddag in MFA ’t Hart. De zaal is open vanaf 13.30 uur, de bingo begint om 14.00 uur.</p>
DESCRIPTION:<a href='/agenda/2026/4/24/bingo-ewijk-61677'>/agenda/2026/4/24/bingo-ewijk-61677</a> || <p>De Seniorenvereniging van Ewijk houdt op vrijdag 24 april weer een bingomiddag in MFA ’t Hart. De zaal is open vanaf 13.30 uur, de bingo begint om 14.00 uur.</p>
LAST-MODIFIED:20260424T210014Z
LOCATION: MFA 't Hart | Den Elt 17 Ewijk
SEQUENCE:0
STATUS:CONFIRMED
SUMMARY:Bingo Ewijk
TRANSP:OPAQUE
END:VEVENT
END:VCALENDAR
