BEGIN:VCALENDAR
PRODID:-//PUBBLE//agenda//NL
VERSION:2.0
METHOD:PUBLISH
BEGIN:VEVENT
DTSTART:20260420T125957Z
DTEND:20260420T135957Z
DTSTAMP:20260424T211412Z
UID:61483826-8239-4747-8bd7-a2f70a6cf3bf
CREATED:20260424T211412Z
NAME:Voorjaarsbingo Supportersclub DIO’30 demaasenwaler.nl
X-WR-CALNAME:Voorjaarsbingo Supportersclub DIO’30
X-ALT-DESC;FMTTYPE=text/html:<a href='/agenda/2026/5/1/voorjaarsbingo-supportersclub-dio30-61676'>/agenda/2026/5/1/voorjaarsbingo-supportersclub-dio30-61676</a> || <p>Op vrijdag 1 mei organiseert Supportersclub DIO’30 haar jaarlijkse voorjaarsbingo. De avond vindt plaats in de clubkantine. De deuren openen om 19.00 uur en om 19.30 uur start de eerste ronde. De bingo staat volgens de club garant voor een gezellige avond met volop spanning en diverse prijzen. De opbrengst komt volledig ten goede aan de jeugdafdeling van DIO’30 en wordt ingezet voor activiteiten en voorzieningen voor de jeugd. Iedereen is welkom om deel te nemen.</p>
DESCRIPTION:<a href='/agenda/2026/5/1/voorjaarsbingo-supportersclub-dio30-61676'>/agenda/2026/5/1/voorjaarsbingo-supportersclub-dio30-61676</a> || <p>Op vrijdag 1 mei organiseert Supportersclub DIO’30 haar jaarlijkse voorjaarsbingo. De avond vindt plaats in de clubkantine. De deuren openen om 19.00 uur en om 19.30 uur start de eerste ronde. De bingo staat volgens de club garant voor een gezellige avond met volop spanning en diverse prijzen. De opbrengst komt volledig ten goede aan de jeugdafdeling van DIO’30 en wordt ingezet voor activiteiten en voorzieningen voor de jeugd. Iedereen is welkom om deel te nemen.</p>
LAST-MODIFIED:20260424T211412Z
LOCATION: Kantine Dio'30 | De Gelenberg 3 Afferden
SEQUENCE:0
STATUS:CONFIRMED
SUMMARY:Voorjaarsbingo Supportersclub DIO’30
TRANSP:OPAQUE
END:VEVENT
END:VCALENDAR
