BEGIN:VCALENDAR
PRODID:-//PUBBLE//agenda//NL
VERSION:2.0
METHOD:PUBLISH
BEGIN:VEVENT
DTSTART:20260417T115732Z
DTEND:20260424T100000Z
DTSTAMP:20260424T211412Z
UID:cbb2046c-8678-450d-9cad-7cccbd49c1f9
CREATED:20260424T211412Z
NAME:Alzheimercafé Maas en Waal demaasenwaler.nl
X-WR-CALNAME:Alzheimercafé Maas en Waal
X-ALT-DESC;FMTTYPE=text/html:<a href='/agenda/2026/4/24/alzheimercafe-maas-en-waal-61667'>/agenda/2026/4/24/alzheimercafe-maas-en-waal-61667</a> || <p>Vrijdag 24 april is de eerstvolgende bijeenkomst van het Alzheimercafé Maas en Waal. Tijdens deze koffie-ochtend tussen 10.00 en 12.00 uur is er ruimte om onderling contact te leggen, ervaringen of tips uit te wisselen of gewoon te kletsen over Alzheimer. Ook is de leestafel aanwezig, met allerlei nuttige informatie over dementie. Voor koffie en thee wordt gezorgd; iedereen is welkom. Het Alzheimercafé vindt plaats in het Mamre, Kattenburg 58 in Druten. De toegang is gratis. Neem voor meer informatie contact op met Jessie Reulen, via telefoon: 06-83 79 63 10.</p>
DESCRIPTION:<a href='/agenda/2026/4/24/alzheimercafe-maas-en-waal-61667'>/agenda/2026/4/24/alzheimercafe-maas-en-waal-61667</a> || <p>Vrijdag 24 april is de eerstvolgende bijeenkomst van het Alzheimercafé Maas en Waal. Tijdens deze koffie-ochtend tussen 10.00 en 12.00 uur is er ruimte om onderling contact te leggen, ervaringen of tips uit te wisselen of gewoon te kletsen over Alzheimer. Ook is de leestafel aanwezig, met allerlei nuttige informatie over dementie. Voor koffie en thee wordt gezorgd; iedereen is welkom. Het Alzheimercafé vindt plaats in het Mamre, Kattenburg 58 in Druten. De toegang is gratis. Neem voor meer informatie contact op met Jessie Reulen, via telefoon: 06-83 79 63 10.</p>
LAST-MODIFIED:20260424T211412Z
LOCATION: Mamre | Kattenburg 59 Druten
SEQUENCE:0
STATUS:CONFIRMED
SUMMARY:Alzheimercafé Maas en Waal
TRANSP:OPAQUE
END:VEVENT
END:VCALENDAR
