BEGIN:VCALENDAR
PRODID:-//PUBBLE//agenda//NL
VERSION:2.0
METHOD:PUBLISH
BEGIN:VEVENT
DTSTART:20260417T105511Z
DTEND:20260426T210000Z
DTSTAMP:20260424T210136Z
UID:8baf2e4d-f908-4f97-b162-43625a8dba73
CREATED:20260424T210136Z
NAME:Leeuwenmars demaasenwaler.nl
X-WR-CALNAME:Leeuwenmars
X-ALT-DESC;FMTTYPE=text/html:<a href='/agenda/2026/4/25/leeuwenmars-61666'>/agenda/2026/4/25/leeuwenmars-61666</a> || <p>Op 25 en 26 april staat de 63e editie van de Leeuwenmars op het programma. De wandelmars, georganiseerd door wandelsportvereniging De Vrolijke Tippelaars, sportvereniging DSZ en carnavalsvereniging De Roefelbus, kent verschillende afstanden en meerdere routes. Menig wandelaar loopt de Leeuwenmars ter voorbereiding op de Vierdaagse van Nijmegen.&nbsp;</p><p>De afstanden die gelopen kunnen worden, zijn: 5, 10, 15, 20, 25, 30 en 40 kilometer. De routes van de 20, 25 en 30 kilometer kunnen als tweedaagse tocht gelopen worden. Voor wie de wandeltocht heeft volbracht, is er (indien gewenst) een aandenken.&nbsp;</p><p>Jong en oud kan meedoen met de Leeuwenmars; aanmelden kan op de dagen zelf bij het startpunt in de kantine van DSZ (Trambaan 1, hoek Molenstraat). Deelname bedraagt 6 euro inclusief herinnering en 5 euro zonder herinnering. Leden van de KWBN krijgen op vertoon van hun ledenpas 1 euro korting.</p>
DESCRIPTION:<a href='/agenda/2026/4/25/leeuwenmars-61666'>/agenda/2026/4/25/leeuwenmars-61666</a> || <p>Op 25 en 26 april staat de 63e editie van de Leeuwenmars op het programma. De wandelmars, georganiseerd door wandelsportvereniging De Vrolijke Tippelaars, sportvereniging DSZ en carnavalsvereniging De Roefelbus, kent verschillende afstanden en meerdere routes. Menig wandelaar loopt de Leeuwenmars ter voorbereiding op de Vierdaagse van Nijmegen.&nbsp;</p><p>De afstanden die gelopen kunnen worden, zijn: 5, 10, 15, 20, 25, 30 en 40 kilometer. De routes van de 20, 25 en 30 kilometer kunnen als tweedaagse tocht gelopen worden. Voor wie de wandeltocht heeft volbracht, is er (indien gewenst) een aandenken.&nbsp;</p><p>Jong en oud kan meedoen met de Leeuwenmars; aanmelden kan op de dagen zelf bij het startpunt in de kantine van DSZ (Trambaan 1, hoek Molenstraat). Deelname bedraagt 6 euro inclusief herinnering en 5 euro zonder herinnering. Leden van de KWBN krijgen op vertoon van hun ledenpas 1 euro korting.</p>
LAST-MODIFIED:20260424T210136Z
LOCATION: DSZ | Trambaan 1 Boven-Leeuwen
SEQUENCE:0
STATUS:CONFIRMED
SUMMARY:Leeuwenmars
TRANSP:OPAQUE
END:VEVENT
END:VCALENDAR
