BEGIN:VCALENDAR
PRODID:-//PUBBLE//agenda//NL
VERSION:2.0
METHOD:PUBLISH
BEGIN:VEVENT
DTSTART:20260416T141400Z
DTEND:20260503T140000Z
DTSTAMP:20260424T223213Z
UID:149170f3-49a3-44eb-953f-8e6a8ed72385
CREATED:20260424T223213Z
NAME:Workshop ‘Zet een mol op’ demaasenwaler.nl
X-WR-CALNAME:Workshop ‘Zet een mol op’
X-ALT-DESC;FMTTYPE=text/html:<a href='/agenda/2026/5/3/workshop-zet-een-mol-op-61660'>/agenda/2026/5/3/workshop-zet-een-mol-op-61660</a> || <p>Op zondag 3 mei organiseert Het Dijkmagazijn van 10.00 tot 16.00 uur een bijzondere workshop waarin deelnemers zelf een mol prepareren. In een groep leren ze stap voor stap hoe een dierpreparaat wordt gemaakt. De mol mag na afloop mee naar huis.</p><p>In een kleine groep en onder begeleiding van preparateurs van De Bastei leren deelnemers aan de workshop hoe dieren opgezet worden. Werkzaamheden bestaan onder andere uit het villen en looien van de huid en het maken van een kunstlijfje. Daarna begint het echte werk: het dier moet weer ‘in elkaar’ gezet worden, in een zo natuurlijk mogelijke lichaamshouding. Het eindresultaat – een leuk opgezet molletje – mag er dan zeker zijn en kan mee naar huis worden genomen om mee te pronken.</p><p>Er is er veel aandacht voor uitleg, vragen stellen en het verhaal achter de mol: hoe hij leeft, waarom hij zo is aangepast aan het ondergrondse leven en waarom prepareren belangrijk is voor educatie en natuurbegrip. De workshop is laagdrempelig en bedoeld voor nieuwsgierige mensen: ervaring is niet nodig. ‘Veel mensen vinden het spannend, maar juist door het zelf te doen merken ze hoe leerzaam en bijzonder het is,’ aldus Robin Kop van Het Dijkmagazijn.</p><p>De workshop is geschikt voor deelnemers vanaf 12 jaar; jongeren tussen 12 en 16 jaar nemen een verantwoordelijke begeleider mee. De kosten bedragen 90 euro per persoon, inclusief koffie, thee, iets lekkers en het eigen geprepareerde dier. Er is plek voor maximaal twaalf deelnemers. Aanmelden kan <a href="http://www.dijkmagazijnbeuningen.nl" rel="noopener noreferrer" target="_blank">via de website van Het Dijkmagazijn.</a></p>
DESCRIPTION:<a href='/agenda/2026/5/3/workshop-zet-een-mol-op-61660'>/agenda/2026/5/3/workshop-zet-een-mol-op-61660</a> || <p>Op zondag 3 mei organiseert Het Dijkmagazijn van 10.00 tot 16.00 uur een bijzondere workshop waarin deelnemers zelf een mol prepareren. In een groep leren ze stap voor stap hoe een dierpreparaat wordt gemaakt. De mol mag na afloop mee naar huis.</p><p>In een kleine groep en onder begeleiding van preparateurs van De Bastei leren deelnemers aan de workshop hoe dieren opgezet worden. Werkzaamheden bestaan onder andere uit het villen en looien van de huid en het maken van een kunstlijfje. Daarna begint het echte werk: het dier moet weer ‘in elkaar’ gezet worden, in een zo natuurlijk mogelijke lichaamshouding. Het eindresultaat – een leuk opgezet molletje – mag er dan zeker zijn en kan mee naar huis worden genomen om mee te pronken.</p><p>Er is er veel aandacht voor uitleg, vragen stellen en het verhaal achter de mol: hoe hij leeft, waarom hij zo is aangepast aan het ondergrondse leven en waarom prepareren belangrijk is voor educatie en natuurbegrip. De workshop is laagdrempelig en bedoeld voor nieuwsgierige mensen: ervaring is niet nodig. ‘Veel mensen vinden het spannend, maar juist door het zelf te doen merken ze hoe leerzaam en bijzonder het is,’ aldus Robin Kop van Het Dijkmagazijn.</p><p>De workshop is geschikt voor deelnemers vanaf 12 jaar; jongeren tussen 12 en 16 jaar nemen een verantwoordelijke begeleider mee. De kosten bedragen 90 euro per persoon, inclusief koffie, thee, iets lekkers en het eigen geprepareerde dier. Er is plek voor maximaal twaalf deelnemers. Aanmelden kan <a href="http://www.dijkmagazijnbeuningen.nl" rel="noopener noreferrer" target="_blank">via de website van Het Dijkmagazijn.</a></p>
LAST-MODIFIED:20260424T223213Z
LOCATION: Het Dijkmagazijn | Dijk 41 Beuningen
SEQUENCE:0
STATUS:CONFIRMED
SUMMARY:Workshop ‘Zet een mol op’
TRANSP:OPAQUE
END:VEVENT
END:VCALENDAR
