BEGIN:VCALENDAR
PRODID:-//PUBBLE//agenda//NL
VERSION:2.0
METHOD:PUBLISH
BEGIN:VEVENT
DTSTART:20260416T131917Z
DTEND:20260416T141917Z
DTSTAMP:20260422T145857Z
UID:06b1d100-09ba-4de5-a3b3-8b1efd71e1c2
CREATED:20260422T145857Z
NAME:Koningsdag: Maasbommel demaasenwaler.nl
X-WR-CALNAME:Koningsdag: Maasbommel
X-ALT-DESC;FMTTYPE=text/html:<a href='/agenda/2026/4/27/koningsdag-maasbommel-61659'>/agenda/2026/4/27/koningsdag-maasbommel-61659</a> || <p>Koningsdag wordt in Maasbommel gevierd op het plein bij het Hanzehuys. Om 10.30 uur start de versierde fietstocht door het dorp. Bij terugkomst bij het Hanzehuys starten vanaf 11.00 uur alle activiteiten voor de kinderen, met onder andere XXL-blokken bouwen, een interactief speelsysteem, speurtocht, stormbaan, rokjesvoetbal, knutselen en natuurlijk de kleedjesmarkt.&nbsp;</p><p>Om 14.00 uur start de bingo met prachtige prijzen voor jong en oud. De kinderactiviteiten duren tot 15.00 uur.</p>
DESCRIPTION:<a href='/agenda/2026/4/27/koningsdag-maasbommel-61659'>/agenda/2026/4/27/koningsdag-maasbommel-61659</a> || <p>Koningsdag wordt in Maasbommel gevierd op het plein bij het Hanzehuys. Om 10.30 uur start de versierde fietstocht door het dorp. Bij terugkomst bij het Hanzehuys starten vanaf 11.00 uur alle activiteiten voor de kinderen, met onder andere XXL-blokken bouwen, een interactief speelsysteem, speurtocht, stormbaan, rokjesvoetbal, knutselen en natuurlijk de kleedjesmarkt.&nbsp;</p><p>Om 14.00 uur start de bingo met prachtige prijzen voor jong en oud. De kinderactiviteiten duren tot 15.00 uur.</p>
LAST-MODIFIED:20260422T145857Z
LOCATION: Het Hanzehuys | de Bennenmaker 15 Maasbommel
SEQUENCE:0
STATUS:CONFIRMED
SUMMARY:Koningsdag: Maasbommel
TRANSP:OPAQUE
END:VEVENT
END:VCALENDAR
