BEGIN:VCALENDAR
PRODID:-//PUBBLE//agenda//NL
VERSION:2.0
METHOD:PUBLISH
BEGIN:VEVENT
DTSTART:20260416T131648Z
DTEND:20260427T215900Z
DTSTAMP:20260422T145923Z
UID:0d726980-3dc7-4a3a-b086-aacce821b450
CREATED:20260422T145923Z
NAME:Koningsdag: Druten demaasenwaler.nl
X-WR-CALNAME:Koningsdag: Druten
X-ALT-DESC;FMTTYPE=text/html:<a href='/agenda/2026/4/27/koningsdag-druten-61658'>/agenda/2026/4/27/koningsdag-druten-61658</a> || <p>Het koningsdagprogramma in Druten start om 09.00 uur met de opening van de kleedjesmarkt (opbouw vanaf 07.00 uur). Om 10.00 uur start de versierde fietsenoptocht (verzamelen vanaf 09.45 uur bij het gemeentehuis). Aansluitend is er een kinderdisco.&nbsp;</p><p>Om 10.45 uur is de officiële opening van Koningsdag. Op het marktplein zijn onder meer spellen, een loterij, kleedjesmarkt, een bezoek van de ‘koning’ en optredens van Dansstudio Almir. De horeca wordt verzorgd door CV De Blauwe Bok, muziek is er van DJ Jayden. Van 13.00 tot 15.00 uur is er een optreden van coverband Between 2 Rivers.</p>
DESCRIPTION:<a href='/agenda/2026/4/27/koningsdag-druten-61658'>/agenda/2026/4/27/koningsdag-druten-61658</a> || <p>Het koningsdagprogramma in Druten start om 09.00 uur met de opening van de kleedjesmarkt (opbouw vanaf 07.00 uur). Om 10.00 uur start de versierde fietsenoptocht (verzamelen vanaf 09.45 uur bij het gemeentehuis). Aansluitend is er een kinderdisco.&nbsp;</p><p>Om 10.45 uur is de officiële opening van Koningsdag. Op het marktplein zijn onder meer spellen, een loterij, kleedjesmarkt, een bezoek van de ‘koning’ en optredens van Dansstudio Almir. De horeca wordt verzorgd door CV De Blauwe Bok, muziek is er van DJ Jayden. Van 13.00 tot 15.00 uur is er een optreden van coverband Between 2 Rivers.</p>
LAST-MODIFIED:20260422T145923Z
LOCATION: Druten |   Druten
SEQUENCE:0
STATUS:CONFIRMED
SUMMARY:Koningsdag: Druten
TRANSP:OPAQUE
END:VEVENT
END:VCALENDAR
