BEGIN:VCALENDAR
PRODID:-//PUBBLE//agenda//NL
VERSION:2.0
METHOD:PUBLISH
BEGIN:VEVENT
DTSTART:20260416T131344Z
DTEND:20260427T150000Z
DTSTAMP:20260424T210238Z
UID:f5307895-1ac2-4397-ba57-846fe3d7914c
CREATED:20260424T210238Z
NAME:Koningsdag: Winssen demaasenwaler.nl
X-WR-CALNAME:Koningsdag: Winssen
X-ALT-DESC;FMTTYPE=text/html:<a href='/agenda/2026/4/27/koningsdag-winssen-61657'>/agenda/2026/4/27/koningsdag-winssen-61657</a> || <p>Tijdens Koningsdag in Winssen zijn er van 12.00 tot 17.00 uur verschillende activiteiten bij De Paulus. Naast de springkussens is er een bungeetrampoline. Kinderen kunnen een bloempot beschilderen, zich laten schminken of een glittertattoo laten plakken. Ook is er een loterij.</p>
DESCRIPTION:<a href='/agenda/2026/4/27/koningsdag-winssen-61657'>/agenda/2026/4/27/koningsdag-winssen-61657</a> || <p>Tijdens Koningsdag in Winssen zijn er van 12.00 tot 17.00 uur verschillende activiteiten bij De Paulus. Naast de springkussens is er een bungeetrampoline. Kinderen kunnen een bloempot beschilderen, zich laten schminken of een glittertattoo laten plakken. Ook is er een loterij.</p>
LAST-MODIFIED:20260424T210238Z
LOCATION: De Paulus |   Winssen
SEQUENCE:0
STATUS:CONFIRMED
SUMMARY:Koningsdag: Winssen
TRANSP:OPAQUE
END:VEVENT
END:VCALENDAR
