BEGIN:VCALENDAR
PRODID:-//PUBBLE//agenda//NL
VERSION:2.0
METHOD:PUBLISH
BEGIN:VEVENT
DTSTART:20260416T131013Z
DTEND:20260416T141013Z
DTSTAMP:20260424T210020Z
UID:a1d6fbad-05bb-4bdd-b4a7-0990d94a2c7e
CREATED:20260424T210020Z
NAME:Koningsdag: Heerewaarden demaasenwaler.nl
X-WR-CALNAME:Koningsdag: Heerewaarden
X-ALT-DESC;FMTTYPE=text/html:<a href='/agenda/2026/4/27/koningsdag-heerewaarden-61655'>/agenda/2026/4/27/koningsdag-heerewaarden-61655</a> || <p>Koningsdag wordt in Heerewaarden gevierd bij MFC De Steen. De activiteiten starten om 13.00 uur met een optocht van versierde (loop)fietsen en skelters (opstellen om 12.30 uur). Vanaf 14.00 uur zijn er allerlei activiteiten, waaronder een stormbaan, springkussens, sumoworstelen, Oud-Hollandse spellen, een ‘Herken de dorpsgenoten’-quiz, Jeu de Boules en de kleedjesmarkt. In MFC De Steen is een frietkaam naast de andere horeca te vinden. Het programma gaat ook bij slecht weer door: in dat geval vinden de activiteiten binnen plaats.&nbsp;</p><p>Kijk voor meer informatie op de <a href="https://www.facebook.com/people/Festiviteitencomit%C3%A9-Heerewaarden/100064505840154/#" rel="noopener noreferrer" target="_blank">Facebookpagina van het festiviteitencomité</a>.</p>
DESCRIPTION:<a href='/agenda/2026/4/27/koningsdag-heerewaarden-61655'>/agenda/2026/4/27/koningsdag-heerewaarden-61655</a> || <p>Koningsdag wordt in Heerewaarden gevierd bij MFC De Steen. De activiteiten starten om 13.00 uur met een optocht van versierde (loop)fietsen en skelters (opstellen om 12.30 uur). Vanaf 14.00 uur zijn er allerlei activiteiten, waaronder een stormbaan, springkussens, sumoworstelen, Oud-Hollandse spellen, een ‘Herken de dorpsgenoten’-quiz, Jeu de Boules en de kleedjesmarkt. In MFC De Steen is een frietkaam naast de andere horeca te vinden. Het programma gaat ook bij slecht weer door: in dat geval vinden de activiteiten binnen plaats.&nbsp;</p><p>Kijk voor meer informatie op de <a href="https://www.facebook.com/people/Festiviteitencomit%C3%A9-Heerewaarden/100064505840154/#" rel="noopener noreferrer" target="_blank">Facebookpagina van het festiviteitencomité</a>.</p>
LAST-MODIFIED:20260424T210020Z
LOCATION: MFC de Steen | Bukestraat  Heerewaarden
SEQUENCE:0
STATUS:CONFIRMED
SUMMARY:Koningsdag: Heerewaarden
TRANSP:OPAQUE
END:VEVENT
END:VCALENDAR
