BEGIN:VCALENDAR
PRODID:-//PUBBLE//agenda//NL
VERSION:2.0
METHOD:PUBLISH
BEGIN:VEVENT
DTSTART:20260416T130221Z
DTEND:20260416T140221Z
DTSTAMP:20260424T210131Z
UID:2ab32237-2f9a-444b-a7a5-cb9d70b4fa9e
CREATED:20260424T210131Z
NAME:Koningsdag: Puiflijk demaasenwaler.nl
X-WR-CALNAME:Koningsdag: Puiflijk
X-ALT-DESC;FMTTYPE=text/html:<a href='/agenda/2026/4/27/koningsdag-puiflijk-61654'>/agenda/2026/4/27/koningsdag-puiflijk-61654</a> || <p>Het reguliere koningsdagprogramma in Puiflijk begint om 09.00 uur met de vrijmarkt. Vanaf 09.45 uur kan er worden ingeschreven en opgesteld voor de versierde fietsenoptocht bij de Oude Toren. De optocht gaat om 10.15 uur van start. Op dat moment starten ook de (spel)activiteiten en workshops. Om 11.00 uur is de Koningslunch voor senioren in dorpshuis De Lier. De activiteiten duren tot 13.45 uur.&nbsp;</p><p>Om 14.15 uur is het startschot van de zeepkistenrace, een activiteit die precies tien jaar na de laatste editie weer nieuw leven wordt ingeblazen. Aansluitend is er feest op het plein met muziek van parttime DJ’s Gerard en Cor. Voor meer informatie, zie: <a href="//www.koningsdag-puiflijk.nl">www.koningsdag-puiflijk.nl</a>.</p>
DESCRIPTION:<a href='/agenda/2026/4/27/koningsdag-puiflijk-61654'>/agenda/2026/4/27/koningsdag-puiflijk-61654</a> || <p>Het reguliere koningsdagprogramma in Puiflijk begint om 09.00 uur met de vrijmarkt. Vanaf 09.45 uur kan er worden ingeschreven en opgesteld voor de versierde fietsenoptocht bij de Oude Toren. De optocht gaat om 10.15 uur van start. Op dat moment starten ook de (spel)activiteiten en workshops. Om 11.00 uur is de Koningslunch voor senioren in dorpshuis De Lier. De activiteiten duren tot 13.45 uur.&nbsp;</p><p>Om 14.15 uur is het startschot van de zeepkistenrace, een activiteit die precies tien jaar na de laatste editie weer nieuw leven wordt ingeblazen. Aansluitend is er feest op het plein met muziek van parttime DJ’s Gerard en Cor. Voor meer informatie, zie: <a href="//www.koningsdag-puiflijk.nl">www.koningsdag-puiflijk.nl</a>.</p>
LAST-MODIFIED:20260424T210131Z
LOCATION: Puiflijk |   Puiflijk
SEQUENCE:0
STATUS:CONFIRMED
SUMMARY:Koningsdag: Puiflijk
TRANSP:OPAQUE
END:VEVENT
END:VCALENDAR
