BEGIN:VCALENDAR
PRODID:-//PUBBLE//agenda//NL
VERSION:2.0
METHOD:PUBLISH
BEGIN:VEVENT
DTSTART:20260416T125925Z
DTEND:20260416T135925Z
DTSTAMP:20260424T211200Z
UID:ded8ced8-1818-4832-bed6-bc6549bb3137
CREATED:20260424T211200Z
NAME:Koningsdag: Horssen demaasenwaler.nl
X-WR-CALNAME:Koningsdag: Horssen
X-ALT-DESC;FMTTYPE=text/html:<a href='/agenda/2026/4/27/koningsdag-horssen-61653'>/agenda/2026/4/27/koningsdag-horssen-61653</a> || <p>De Horssense activiteiten tijdens Koningsdag vinden plaats op het terrein van AAC-Olympia. Om 14.00 uur start de versierde fietsenoptocht (opstellen vanaf 13.30 uur). Aansluitend is er voor de kinderen een springkussen.&nbsp;</p><p>Om 15.15 uur is de prijsuitreiking van de optocht en om 15.30 uur start het feest, met muziek van DJ J-ME. Kijk voor meer informatie <a href="https://www.facebook.com/koniingsdag/" rel="noopener noreferrer" target="_blank">op de Facebookpagina van het Horssense Oranjecomité.</a></p>
DESCRIPTION:<a href='/agenda/2026/4/27/koningsdag-horssen-61653'>/agenda/2026/4/27/koningsdag-horssen-61653</a> || <p>De Horssense activiteiten tijdens Koningsdag vinden plaats op het terrein van AAC-Olympia. Om 14.00 uur start de versierde fietsenoptocht (opstellen vanaf 13.30 uur). Aansluitend is er voor de kinderen een springkussen.&nbsp;</p><p>Om 15.15 uur is de prijsuitreiking van de optocht en om 15.30 uur start het feest, met muziek van DJ J-ME. Kijk voor meer informatie <a href="https://www.facebook.com/koniingsdag/" rel="noopener noreferrer" target="_blank">op de Facebookpagina van het Horssense Oranjecomité.</a></p>
LAST-MODIFIED:20260424T211200Z
LOCATION: Horssen |   Horssen
SEQUENCE:0
STATUS:CONFIRMED
SUMMARY:Koningsdag: Horssen
TRANSP:OPAQUE
END:VEVENT
END:VCALENDAR
