BEGIN:VCALENDAR
PRODID:-//PUBBLE//agenda//NL
VERSION:2.0
METHOD:PUBLISH
BEGIN:VEVENT
DTSTART:20260416T125709Z
DTEND:20260416T135709Z
DTSTAMP:20260424T210131Z
UID:cd3460af-f2cd-4b7d-8144-c13d44821af4
CREATED:20260424T210131Z
NAME:Koningsdag: Wamel demaasenwaler.nl
X-WR-CALNAME:Koningsdag: Wamel
X-ALT-DESC;FMTTYPE=text/html:<a href='/agenda/2026/4/27/koningsdag-wamel-61652'>/agenda/2026/4/27/koningsdag-wamel-61652</a> || <p>Koningsdag in Wamel begint om 13.00 uur met een versierde fietsenoptocht door het dorp. Er wordt gestart bij het VTC. Tussen 14.00 en 18.00 uur is er een leuk programma op het plein van het VTC, met pannakooi, een stormbaan, vrijmarkt, muziek, schminken, lasergamen en allerlei lekkernijen zoals verse wafels.&nbsp;</p><p>Nieuw dit jaar is een gezamenlijke bbq, die om 17.00 aangaat. Inwoners wordt gevraagd hun eigen vlees mee te brengen.&nbsp;</p>
DESCRIPTION:<a href='/agenda/2026/4/27/koningsdag-wamel-61652'>/agenda/2026/4/27/koningsdag-wamel-61652</a> || <p>Koningsdag in Wamel begint om 13.00 uur met een versierde fietsenoptocht door het dorp. Er wordt gestart bij het VTC. Tussen 14.00 en 18.00 uur is er een leuk programma op het plein van het VTC, met pannakooi, een stormbaan, vrijmarkt, muziek, schminken, lasergamen en allerlei lekkernijen zoals verse wafels.&nbsp;</p><p>Nieuw dit jaar is een gezamenlijke bbq, die om 17.00 aangaat. Inwoners wordt gevraagd hun eigen vlees mee te brengen.&nbsp;</p>
LAST-MODIFIED:20260424T210131Z
LOCATION: Wamel |   Wamel
SEQUENCE:0
STATUS:CONFIRMED
SUMMARY:Koningsdag: Wamel
TRANSP:OPAQUE
END:VEVENT
END:VCALENDAR
