BEGIN:VCALENDAR
PRODID:-//PUBBLE//agenda//NL
VERSION:2.0
METHOD:PUBLISH
BEGIN:VEVENT
DTSTART:20260416T124907Z
DTEND:20260416T134907Z
DTSTAMP:20260424T210253Z
UID:ddecd292-3b5c-4141-9a6c-31e94fae6f95
CREATED:20260424T210253Z
NAME:Koningsdag: Batenburg demaasenwaler.nl
X-WR-CALNAME:Koningsdag: Batenburg
X-ALT-DESC;FMTTYPE=text/html:<a href='/agenda/2026/4/27/koningsdag-batenburg-61651'>/agenda/2026/4/27/koningsdag-batenburg-61651</a> || <p>In Batenburg wordt Koningsdag gevierd bij de Batenburcht. De dag start om 10.30 uur met de versierde fietstocht met muziek van Gilde St. Damianus uit Niftrik. Kinderen krijgen een bon na de fietstocht. Aansluitend is er een kleedjesmarkt, spelletjes voor alle kinderen en Heel Batenburg Bakt!&nbsp;</p>
DESCRIPTION:<a href='/agenda/2026/4/27/koningsdag-batenburg-61651'>/agenda/2026/4/27/koningsdag-batenburg-61651</a> || <p>In Batenburg wordt Koningsdag gevierd bij de Batenburcht. De dag start om 10.30 uur met de versierde fietstocht met muziek van Gilde St. Damianus uit Niftrik. Kinderen krijgen een bon na de fietstocht. Aansluitend is er een kleedjesmarkt, spelletjes voor alle kinderen en Heel Batenburg Bakt!&nbsp;</p>
LAST-MODIFIED:20260424T210253Z
LOCATION: De Batenburcht | Hoppenhofstraat 12 Batenburg
SEQUENCE:0
STATUS:CONFIRMED
SUMMARY:Koningsdag: Batenburg
TRANSP:OPAQUE
END:VEVENT
END:VCALENDAR
