BEGIN:VCALENDAR
PRODID:-//PUBBLE//agenda//NL
VERSION:2.0
METHOD:PUBLISH
BEGIN:VEVENT
DTSTART:20260416T124459Z
DTEND:20260427T160000Z
DTSTAMP:20260424T210339Z
UID:b14eb47e-1d0f-441e-ba31-935d59c1deb7
CREATED:20260424T210339Z
NAME:Koningsdag: Alphen demaasenwaler.nl
X-WR-CALNAME:Koningsdag: Alphen
X-ALT-DESC;FMTTYPE=text/html:<a href='/agenda/2026/4/27/koningsdag-alphen-61650'>/agenda/2026/4/27/koningsdag-alphen-61650</a> || <p class="plattetekst" pstyle="platte tekst">De oranjefestiviteiten vinden in Alphen plaats bij dorpshuis De Hucht. Om 13.45 uur is de opening, waarna om 14.00 uur de versierde optocht start. De hele middag kunnen kinderen knutselen, zich vermaken op het springkussen of bouwen met XL LEGO. Van 14.30 tot 15.30 uur is er een workshop freestyle voetbal en kan de jeugd lasergamen. Tussen 16.00 en 18.00 uur zijn er voor kinderen tot en met 12 jaar gratis poffertjes. Ouders kunnen voor een snack terecht in het dorpshuis, op eigen kosten.</p>
DESCRIPTION:<a href='/agenda/2026/4/27/koningsdag-alphen-61650'>/agenda/2026/4/27/koningsdag-alphen-61650</a> || <p class="plattetekst" pstyle="platte tekst">De oranjefestiviteiten vinden in Alphen plaats bij dorpshuis De Hucht. Om 13.45 uur is de opening, waarna om 14.00 uur de versierde optocht start. De hele middag kunnen kinderen knutselen, zich vermaken op het springkussen of bouwen met XL LEGO. Van 14.30 tot 15.30 uur is er een workshop freestyle voetbal en kan de jeugd lasergamen. Tussen 16.00 en 18.00 uur zijn er voor kinderen tot en met 12 jaar gratis poffertjes. Ouders kunnen voor een snack terecht in het dorpshuis, op eigen kosten.</p>
LAST-MODIFIED:20260424T210339Z
LOCATION: Dorpshuis de Hucht | Schoolstraat 4 Alphen
SEQUENCE:0
STATUS:CONFIRMED
SUMMARY:Koningsdag: Alphen
TRANSP:OPAQUE
END:VEVENT
END:VCALENDAR
