BEGIN:VCALENDAR
PRODID:-//PUBBLE//agenda//NL
VERSION:2.0
METHOD:PUBLISH
BEGIN:VEVENT
DTSTART:20260416T124038Z
DTEND:20260427T215900Z
DTSTAMP:20260424T212042Z
UID:52e7c13c-b39e-452a-8d69-eed2fa290b03
CREATED:20260424T212042Z
NAME:Koningsnacht- en dag: Bergharen demaasenwaler.nl
X-WR-CALNAME:Koningsnacht- en dag: Bergharen
X-ALT-DESC;FMTTYPE=text/html:<a href='/agenda/2026/4/26/koningsnacht-en-dag-bergharen-61649'>/agenda/2026/4/26/koningsnacht-en-dag-bergharen-61649</a> || <p>Zondag 26 april staat in Bergharen voor de 35e keer het Oranjebal op het programma: reden voor het Oranjecomité Bergharen om extra uit te pakken. Vanaf 20.00 uur is er muziek van de band X-Tended en DJ Floor.</p><p>Koningsdag zelf heeft in Bergharen dit jaar het thema ‘Straatkunst’. Kinderen kunnen deelnemen aan een skateworkshop of hun eigen graffitiwerk maken. Wie echt ‘all the way’ wil gaan, komt in hun mooiste hiphop-outfit. Het programma omvat tevens een fietstocht en er staan luchtkussens opgesteld. Het programma start deze dag om 10.00 uur met het Wilhelmus, het hijsen van de nationale driekleur en een woordje van de burgemeester, met muziek van Muziekvereniging St Anna &amp; Excelsior.</p>
DESCRIPTION:<a href='/agenda/2026/4/26/koningsnacht-en-dag-bergharen-61649'>/agenda/2026/4/26/koningsnacht-en-dag-bergharen-61649</a> || <p>Zondag 26 april staat in Bergharen voor de 35e keer het Oranjebal op het programma: reden voor het Oranjecomité Bergharen om extra uit te pakken. Vanaf 20.00 uur is er muziek van de band X-Tended en DJ Floor.</p><p>Koningsdag zelf heeft in Bergharen dit jaar het thema ‘Straatkunst’. Kinderen kunnen deelnemen aan een skateworkshop of hun eigen graffitiwerk maken. Wie echt ‘all the way’ wil gaan, komt in hun mooiste hiphop-outfit. Het programma omvat tevens een fietstocht en er staan luchtkussens opgesteld. Het programma start deze dag om 10.00 uur met het Wilhelmus, het hijsen van de nationale driekleur en een woordje van de burgemeester, met muziek van Muziekvereniging St Anna &amp; Excelsior.</p>
LAST-MODIFIED:20260424T212042Z
LOCATION: Bergharen |   Bergharen
SEQUENCE:0
STATUS:CONFIRMED
SUMMARY:Koningsnacht- en dag: Bergharen
TRANSP:OPAQUE
END:VEVENT
END:VCALENDAR
