BEGIN:VCALENDAR
PRODID:-//PUBBLE//agenda//NL
VERSION:2.0
METHOD:PUBLISH
BEGIN:VEVENT
DTSTART:20260416T123342Z
DTEND:20260416T133342Z
DTSTAMP:20260424T210014Z
UID:b5898f69-81a6-406d-b500-1eb5d503d4b2
CREATED:20260424T210014Z
NAME:Koningsdag: Appeltern demaasenwaler.nl
X-WR-CALNAME:Koningsdag: Appeltern
X-ALT-DESC;FMTTYPE=text/html:<a href='/agenda/2026/4/27/koningsdag-appeltern-61648'>/agenda/2026/4/27/koningsdag-appeltern-61648</a> || <p>Koningsdag in Appeltern start om 11.00 uur met de versierde fietsenoptocht bij de Gravin van Rechterenschool. Aansluitend zijn er activiteiten bij dorpshuis De Schuur, waaronder een disco, springkussen, creatieve workshops, een rodeostier en meer sport- en spelactiviteiten.&nbsp;</p><p>Voor meer informatie, zie <a href="https://www.facebook.com/people/Oranje-Comit%C3%A9-Appeltern/100067713522405/" rel="noopener noreferrer" target="_blank">de Facebookpagina van het Oranjecomité Appeltern</a>.</p>
DESCRIPTION:<a href='/agenda/2026/4/27/koningsdag-appeltern-61648'>/agenda/2026/4/27/koningsdag-appeltern-61648</a> || <p>Koningsdag in Appeltern start om 11.00 uur met de versierde fietsenoptocht bij de Gravin van Rechterenschool. Aansluitend zijn er activiteiten bij dorpshuis De Schuur, waaronder een disco, springkussen, creatieve workshops, een rodeostier en meer sport- en spelactiviteiten.&nbsp;</p><p>Voor meer informatie, zie <a href="https://www.facebook.com/people/Oranje-Comit%C3%A9-Appeltern/100067713522405/" rel="noopener noreferrer" target="_blank">de Facebookpagina van het Oranjecomité Appeltern</a>.</p>
LAST-MODIFIED:20260424T210014Z
LOCATION: Appeltern |   Appeltern
SEQUENCE:0
STATUS:CONFIRMED
SUMMARY:Koningsdag: Appeltern
TRANSP:OPAQUE
END:VEVENT
END:VCALENDAR
