BEGIN:VCALENDAR
PRODID:-//PUBBLE//agenda//NL
VERSION:2.0
METHOD:PUBLISH
BEGIN:VEVENT
DTSTART:20260416T122949Z
DTEND:20260427T215900Z
DTSTAMP:20260420T140841Z
UID:91c1df88-96c9-49c6-9f7f-896f00a4c42f
CREATED:20260420T140841Z
NAME:Koningsnacht- en dag: Boven-Leeuwen demaasenwaler.nl
X-WR-CALNAME:Koningsnacht- en dag: Boven-Leeuwen
X-ALT-DESC;FMTTYPE=text/html:<a href='/agenda/2026/4/26/koningsnacht-en-dag-boven-leeuwen-61647'>/agenda/2026/4/26/koningsnacht-en-dag-boven-leeuwen-61647</a> || <p>De oranje feestelijkheden in Boven-Leeuwen beginnen al op zondag 26 april met Koningsnacht. Om 20.30 uur openen de deuren van de Koningszaal in Kulturhus D’n Dulper. Bezoekers kunnen rekenen op een gezellige, muzikale avond met een optreden van de 3EEE’s.&nbsp;</p><p>Op Koningsdag wordt om 09.00 uur gestart met het opbouwen van de kleedjesmarkt. Iedereen is welkom om op de aangewezen plekken een kleedje neer te leggen en hun spullen of creatieve werken te verkopen. Om 09.45 uur is de traditionele aubade op het Dulperplein. Burgemeester Van Neerbos hijst tijdens deze ceremonie de vlag, muzikaal begeleid door het het Koningsdagorkest. Aansluitend gaat de versierde fietsoptocht van start. Op het plein is er na de fietstocht van alles te beleven. Kinderen kunnen zich uitleven met onder andere diverse kinderspellen, een skelterrace, stormbaan, springkussen, ballonnenclown en XXL LEGO-blokken. Uiteraard is er muziek, met later op de dag een live optreden. Voor 5 euro kunnen kinderen een kaart kopen waarmee ze toegang krijgen tot verschillende spelonderdelen en kunnen genieten van diverse lekkernijen.&nbsp;</p><p>Meer informatie is te vinden op: <a href="//www.oranjebovenleeuwen.nl">www.oranjebovenleeuwen.nl</a>.</p>
DESCRIPTION:<a href='/agenda/2026/4/26/koningsnacht-en-dag-boven-leeuwen-61647'>/agenda/2026/4/26/koningsnacht-en-dag-boven-leeuwen-61647</a> || <p>De oranje feestelijkheden in Boven-Leeuwen beginnen al op zondag 26 april met Koningsnacht. Om 20.30 uur openen de deuren van de Koningszaal in Kulturhus D’n Dulper. Bezoekers kunnen rekenen op een gezellige, muzikale avond met een optreden van de 3EEE’s.&nbsp;</p><p>Op Koningsdag wordt om 09.00 uur gestart met het opbouwen van de kleedjesmarkt. Iedereen is welkom om op de aangewezen plekken een kleedje neer te leggen en hun spullen of creatieve werken te verkopen. Om 09.45 uur is de traditionele aubade op het Dulperplein. Burgemeester Van Neerbos hijst tijdens deze ceremonie de vlag, muzikaal begeleid door het het Koningsdagorkest. Aansluitend gaat de versierde fietsoptocht van start. Op het plein is er na de fietstocht van alles te beleven. Kinderen kunnen zich uitleven met onder andere diverse kinderspellen, een skelterrace, stormbaan, springkussen, ballonnenclown en XXL LEGO-blokken. Uiteraard is er muziek, met later op de dag een live optreden. Voor 5 euro kunnen kinderen een kaart kopen waarmee ze toegang krijgen tot verschillende spelonderdelen en kunnen genieten van diverse lekkernijen.&nbsp;</p><p>Meer informatie is te vinden op: <a href="//www.oranjebovenleeuwen.nl">www.oranjebovenleeuwen.nl</a>.</p>
LAST-MODIFIED:20260420T140841Z
LOCATION: Boven-Leeuwen |   Boven-Leeuwen
SEQUENCE:0
STATUS:CONFIRMED
SUMMARY:Koningsnacht- en dag: Boven-Leeuwen
TRANSP:OPAQUE
END:VEVENT
END:VCALENDAR
