BEGIN:VCALENDAR
PRODID:-//PUBBLE//agenda//NL
VERSION:2.0
METHOD:PUBLISH
BEGIN:VEVENT
DTSTART:20260416T122452Z
DTEND:20260427T150000Z
DTSTAMP:20260424T210137Z
UID:150a09a8-5a7b-4963-bc63-4fc7a0c7f812
CREATED:20260424T210137Z
NAME:Koningsdag: Beuningen demaasenwaler.nl
X-WR-CALNAME:Koningsdag: Beuningen
X-ALT-DESC;FMTTYPE=text/html:<a href='/agenda/2026/4/27/koningsdag-beuningen-61646'>/agenda/2026/4/27/koningsdag-beuningen-61646</a> || <p>Koningsdag in Beuningen wordt gevierd met de vertrouwde kleedjesmarkt tussen 09.00 en 17.00 uur. Daarnaast zijn de terrassen in het centrum deze dag volop geopend voor een hapje en een drankje, gekleurd in oranje.&nbsp;</p><p>Meer informatie is <a href="http://www.hartvanbeuningen.nl" rel="noopener noreferrer" target="_blank">online te vinden op de website van Hart van Beuningen.</a></p>
DESCRIPTION:<a href='/agenda/2026/4/27/koningsdag-beuningen-61646'>/agenda/2026/4/27/koningsdag-beuningen-61646</a> || <p>Koningsdag in Beuningen wordt gevierd met de vertrouwde kleedjesmarkt tussen 09.00 en 17.00 uur. Daarnaast zijn de terrassen in het centrum deze dag volop geopend voor een hapje en een drankje, gekleurd in oranje.&nbsp;</p><p>Meer informatie is <a href="http://www.hartvanbeuningen.nl" rel="noopener noreferrer" target="_blank">online te vinden op de website van Hart van Beuningen.</a></p>
LAST-MODIFIED:20260424T210137Z
LOCATION: Centrum |   Beuningen
SEQUENCE:0
STATUS:CONFIRMED
SUMMARY:Koningsdag: Beuningen
TRANSP:OPAQUE
END:VEVENT
END:VCALENDAR
