BEGIN:VCALENDAR
PRODID:-//PUBBLE//agenda//NL
VERSION:2.0
METHOD:PUBLISH
BEGIN:VEVENT
DTSTART:20260416T120917Z
DTEND:20260416T130917Z
DTSTAMP:20260424T212153Z
UID:86b48568-1383-47ea-ae38-4b44169c4395
CREATED:20260424T212153Z
NAME:Koningsdag: Afferden demaasenwaler.nl
X-WR-CALNAME:Koningsdag: Afferden
X-ALT-DESC;FMTTYPE=text/html:<a href='/agenda/2026/4/27/koningsdag-afferden-61643'>/agenda/2026/4/27/koningsdag-afferden-61643</a> || <p>Afferden viert dit jaar Koningsdag met een ‘circuseditie’. Vanaf 12.00 uur is er de welbekende versierde fietsenoptocht. Om 12.30 uur wordt de vlag gehesen door het koningspaar en de burgemeester. Tussen 12.45 en 16.00 uur zijn er allerlei spellen en activiteiten, zoals een stormbaan, Swing Him Off, Twister XL, Ganzenbord XL, Jenga XL en circusspellen. Na afloop is er muziek van dj DiDi.</p><p>Kinderen tot en met 12 jaar kunnen zich voor diverse activiteiten aanmelden <a href="https://www.facebook.com/people/Koningsdag-Afferden/100064743364722/" rel="noopener noreferrer" target="_blank">via het formulier op Facebook</a>. Alle activiteiten vinden plaats op het Koningsplein.</p>
DESCRIPTION:<a href='/agenda/2026/4/27/koningsdag-afferden-61643'>/agenda/2026/4/27/koningsdag-afferden-61643</a> || <p>Afferden viert dit jaar Koningsdag met een ‘circuseditie’. Vanaf 12.00 uur is er de welbekende versierde fietsenoptocht. Om 12.30 uur wordt de vlag gehesen door het koningspaar en de burgemeester. Tussen 12.45 en 16.00 uur zijn er allerlei spellen en activiteiten, zoals een stormbaan, Swing Him Off, Twister XL, Ganzenbord XL, Jenga XL en circusspellen. Na afloop is er muziek van dj DiDi.</p><p>Kinderen tot en met 12 jaar kunnen zich voor diverse activiteiten aanmelden <a href="https://www.facebook.com/people/Koningsdag-Afferden/100064743364722/" rel="noopener noreferrer" target="_blank">via het formulier op Facebook</a>. Alle activiteiten vinden plaats op het Koningsplein.</p>
LAST-MODIFIED:20260424T212153Z
LOCATION: Koningsplein | Koningsplein 24 Afferden
SEQUENCE:0
STATUS:CONFIRMED
SUMMARY:Koningsdag: Afferden
TRANSP:OPAQUE
END:VEVENT
END:VCALENDAR
