BEGIN:VCALENDAR
PRODID:-//PUBBLE//agenda//NL
VERSION:2.0
METHOD:PUBLISH
BEGIN:VEVENT
DTSTART:20260416T113528Z
DTEND:20260430T090000Z
DTSTAMP:20260424T211700Z
UID:0e53ca25-f3bb-47dd-aa46-c792887bcf73
CREATED:20260424T211700Z
NAME:Meivakantie bij Poppentheater Tingeling demaasenwaler.nl
X-WR-CALNAME:Meivakantie bij Poppentheater Tingeling
X-ALT-DESC;FMTTYPE=text/html:<a href='/agenda/2026/4/23/meivakantie-bij-poppentheater-tingeling-61640'>/agenda/2026/4/23/meivakantie-bij-poppentheater-tingeling-61640</a> || <p>Poppentheater Tingeling presenteert in de meivakantie een gevarieerd programma met voorstellingen voor jonge kinderen en families.</p><p>Op donderdag 23 april wordt om 11.00 uur het sprookje Goudhaartje en de Drie Beren gespeeld, geschikt voor kinderen van 3 tot 5 jaar. Kaartjes kosten 5 euro.&nbsp;</p><p>Op zaterdag 25 april volgt om 11.30 uur de familievoorstelling Prins Sterrenkind (vanaf 4 jaar). Kaartjes kosten 7,50 euro.&nbsp;</p><p>Het programma wordt vervolgd met Kip Cato op zondag 26 april om 11.00 uur, voor kinderen van 2 tot 4 jaar. Kaartjes kosten 5 euro.&nbsp;</p><p>Als afsluiter wordt op woensdag 29 en donderdag 30 april het sprookje Het Groene Hoedje gespeeld, voor kinderen vanaf 4 jaar. Kaartjes kosten 5 euro.</p><p>De voorstellingen vinden plaats in het thuistheater aan de Tempelstraat 6 in Beuningen. Na afloop is er gelegenheid om te blijven picknicken.&nbsp;</p><p>Voor meer informatie en reserveren, <a href="http://www.poppentheatertingeling.nl" rel="noopener noreferrer" target="_blank">zie de website</a>, of neem telefonisch contact op via: 024 - 677 70 34.</p>
DESCRIPTION:<a href='/agenda/2026/4/23/meivakantie-bij-poppentheater-tingeling-61640'>/agenda/2026/4/23/meivakantie-bij-poppentheater-tingeling-61640</a> || <p>Poppentheater Tingeling presenteert in de meivakantie een gevarieerd programma met voorstellingen voor jonge kinderen en families.</p><p>Op donderdag 23 april wordt om 11.00 uur het sprookje Goudhaartje en de Drie Beren gespeeld, geschikt voor kinderen van 3 tot 5 jaar. Kaartjes kosten 5 euro.&nbsp;</p><p>Op zaterdag 25 april volgt om 11.30 uur de familievoorstelling Prins Sterrenkind (vanaf 4 jaar). Kaartjes kosten 7,50 euro.&nbsp;</p><p>Het programma wordt vervolgd met Kip Cato op zondag 26 april om 11.00 uur, voor kinderen van 2 tot 4 jaar. Kaartjes kosten 5 euro.&nbsp;</p><p>Als afsluiter wordt op woensdag 29 en donderdag 30 april het sprookje Het Groene Hoedje gespeeld, voor kinderen vanaf 4 jaar. Kaartjes kosten 5 euro.</p><p>De voorstellingen vinden plaats in het thuistheater aan de Tempelstraat 6 in Beuningen. Na afloop is er gelegenheid om te blijven picknicken.&nbsp;</p><p>Voor meer informatie en reserveren, <a href="http://www.poppentheatertingeling.nl" rel="noopener noreferrer" target="_blank">zie de website</a>, of neem telefonisch contact op via: 024 - 677 70 34.</p>
LAST-MODIFIED:20260424T211700Z
LOCATION: Poppentheater Tingeling | Tempelstraat 6 Beuningen
SEQUENCE:0
STATUS:CONFIRMED
SUMMARY:Meivakantie bij Poppentheater Tingeling
TRANSP:OPAQUE
END:VEVENT
END:VCALENDAR
