BEGIN:VCALENDAR
PRODID:-//PUBBLE//agenda//NL
VERSION:2.0
METHOD:PUBLISH
BEGIN:VEVENT
DTSTART:20260413T144936Z
DTEND:20260413T154936Z
DTSTAMP:20260424T222755Z
UID:d09fe733-5252-4b2f-93b0-a7462d02a1d7
CREATED:20260424T222755Z
NAME:Dansavond met Jersey demaasenwaler.nl
X-WR-CALNAME:Dansavond met Jersey
X-ALT-DESC;FMTTYPE=text/html:<a href='/agenda/2026/5/2/dansavond-met-jersey-61580'>/agenda/2026/5/2/dansavond-met-jersey-61580</a> || <p>Op zaterdag 2 mei treedt duo Jersey op in Dorpshuis De Horst in Horssen. De dansvloer is open voor iedereen zie zin heeft om langs te komen en te genieten van een sfeervolle avond vol muziek. De dansavond start om 20.30 uur.</p>
DESCRIPTION:<a href='/agenda/2026/5/2/dansavond-met-jersey-61580'>/agenda/2026/5/2/dansavond-met-jersey-61580</a> || <p>Op zaterdag 2 mei treedt duo Jersey op in Dorpshuis De Horst in Horssen. De dansvloer is open voor iedereen zie zin heeft om langs te komen en te genieten van een sfeervolle avond vol muziek. De dansavond start om 20.30 uur.</p>
LAST-MODIFIED:20260424T222755Z
LOCATION: Dorpshuis de Horst | 38 Rijdt Horssen
SEQUENCE:0
STATUS:CONFIRMED
SUMMARY:Dansavond met Jersey
TRANSP:OPAQUE
END:VEVENT
END:VCALENDAR
