BEGIN:VCALENDAR
PRODID:-//PUBBLE//agenda//NL
VERSION:2.0
METHOD:PUBLISH
BEGIN:VEVENT
DTSTART:20260208T152515Z
DTEND:20260208T162515Z
DTSTAMP:20260421T041143Z
UID:478cd726-2b20-41e5-94ff-5fd938c32dbe
CREATED:20260421T041143Z
NAME:Optocht Deest demaasenwaler.nl
X-WR-CALNAME:Optocht Deest
X-ALT-DESC;FMTTYPE=text/html:<a href='/agenda/2026/2/14/optocht-deest-60608'>/agenda/2026/2/14/optocht-deest-60608</a> || <h2 class="kopkortnieuws"><br /></h2><p>Zaterdag 14 februari is de optocht in Deest.</p><p class="Redacteur" pstyle="Redacteur">De redactie heeft haar best gedaan om de juiste dagen en tijden te vermelden. Wij zijn derhalve niet aansprakelijk voor incomplete en/of onjuiste gegevens.</p>
DESCRIPTION:<a href='/agenda/2026/2/14/optocht-deest-60608'>/agenda/2026/2/14/optocht-deest-60608</a> || <h2 class="kopkortnieuws"><br /></h2><p>Zaterdag 14 februari is de optocht in Deest.</p><p class="Redacteur" pstyle="Redacteur">De redactie heeft haar best gedaan om de juiste dagen en tijden te vermelden. Wij zijn derhalve niet aansprakelijk voor incomplete en/of onjuiste gegevens.</p>
LAST-MODIFIED:20260421T041143Z
LOCATION: Deest |   Deest
SEQUENCE:0
STATUS:CONFIRMED
SUMMARY:Optocht Deest
TRANSP:OPAQUE
END:VEVENT
END:VCALENDAR
