BEGIN:VCALENDAR
PRODID:-//PUBBLE//agenda//NL
VERSION:2.0
METHOD:PUBLISH
BEGIN:VEVENT
DTSTART:20251105T074826Z
DTEND:20251105T084826Z
DTSTAMP:20260420T135012Z
UID:0c416e73-9d37-4a14-af8f-42b8c18370c2
CREATED:20260420T135012Z
NAME:Intocht Alphen demaasenwaler.nl
X-WR-CALNAME:Intocht Alphen
X-ALT-DESC;FMTTYPE=text/html:<a href='/agenda/2025/11/16/intocht-alphen-59400'>/agenda/2025/11/16/intocht-alphen-59400</a> || <p>Sinterklaas komt dit jaar op zondag 16 november op bezoek in Alphen.</p><p>Alle kinderen worden om 14.45 uur verwacht op het kerkplein. Als Sinterklaas aangekomen is, gaat iedereen gezamenlijk naar dorpshuis de Hucht.</p><p>Voor meer informatie, zie: Facebook/Sinterklaas in Alphen West Maas en Waal &nbsp;</p>
DESCRIPTION:<a href='/agenda/2025/11/16/intocht-alphen-59400'>/agenda/2025/11/16/intocht-alphen-59400</a> || <p>Sinterklaas komt dit jaar op zondag 16 november op bezoek in Alphen.</p><p>Alle kinderen worden om 14.45 uur verwacht op het kerkplein. Als Sinterklaas aangekomen is, gaat iedereen gezamenlijk naar dorpshuis de Hucht.</p><p>Voor meer informatie, zie: Facebook/Sinterklaas in Alphen West Maas en Waal &nbsp;</p>
LAST-MODIFIED:20260420T135012Z
LOCATION: Alphen |   Alphen
SEQUENCE:0
STATUS:CONFIRMED
SUMMARY:Intocht Alphen
TRANSP:OPAQUE
END:VEVENT
END:VCALENDAR
