BEGIN:VCALENDAR
PRODID:-//PUBBLE//agenda//NL
VERSION:2.0
METHOD:PUBLISH
BEGIN:VEVENT
DTSTART:20250121T123219Z
DTEND:20250510T230000Z
DTSTAMP:20260424T164545Z
UID:41500a31-e713-4a3f-9366-36ff6b55f46d
CREATED:20260424T164545Z
NAME:The Beatles Revival in De Rosmolen demaasenwaler.nl
X-WR-CALNAME:The Beatles Revival in De Rosmolen
X-ALT-DESC;FMTTYPE=text/html:<a href='/agenda/2025/5/10/the-beatles-revival-in-de-rosmolen-55244'>/agenda/2025/5/10/the-beatles-revival-in-de-rosmolen-55244</a> || <p>Bij MFA De Rosmolen staat zaterdag 10 mei weer een Goud van Oud concert op het programma. Deze keer staat de wereldwijd geprezen tributeband The Beatles Revival op het podium.</p><p>The Beatles zijn vaak geïmiteerd, maar nog nooit was de gelijkenis zo groot als bij de populaire tributeband uit Praag. Dezelfde kapsels en authentieke kostuums, met daarbij een perfecte stage look van de apparatuur. The Beatles Revival brengt het authentieke Beatles geluid, dat niet te onderscheiden is van het origineel. Alles wordt live gespeeld.</p><h2>Wereldwijd bekend</h2><p>De band heeft een indrukwekkende geschiedenis van ruim dertig jaar, speelde meer dan 2.800 concerten over de hele wereld en is daarmee de meest gevraagde Beatles tributeband ter wereld.&nbsp;</p><p>In de afgelopen jaren speelde The Beatles Revival onder andere op het verjaardagsfeest van de Britse koningin Elizabeth II en het trouwfeest van voetballer Ruud van Nistelrooy, en werd opgetreden in de legendarische Cavern Club in Liverpool. De band was ook te zien in menig tv-programma.</p><p>Ga mee terug naar het Liverpool van de jaren zestig en beleef The Beatles zoals zij horen te klinken. De zaal gaat open om 20.00 uur. In de pauze is er muziek van een dj. Kaarten kosten 27,50 euro per stuk en zijn te koop via <a href="https://www.facebook.com/MFADeRosmolen/?locale=nl_NL" rel="noopener noreferrer" target="_blank">Facebook</a> of via de <a href="http://beatlesmfaderosmolen.shop.eventgoose.com" rel="noopener noreferrer" target="_blank">website</a>.</p>
DESCRIPTION:<a href='/agenda/2025/5/10/the-beatles-revival-in-de-rosmolen-55244'>/agenda/2025/5/10/the-beatles-revival-in-de-rosmolen-55244</a> || <p>Bij MFA De Rosmolen staat zaterdag 10 mei weer een Goud van Oud concert op het programma. Deze keer staat de wereldwijd geprezen tributeband The Beatles Revival op het podium.</p><p>The Beatles zijn vaak geïmiteerd, maar nog nooit was de gelijkenis zo groot als bij de populaire tributeband uit Praag. Dezelfde kapsels en authentieke kostuums, met daarbij een perfecte stage look van de apparatuur. The Beatles Revival brengt het authentieke Beatles geluid, dat niet te onderscheiden is van het origineel. Alles wordt live gespeeld.</p><h2>Wereldwijd bekend</h2><p>De band heeft een indrukwekkende geschiedenis van ruim dertig jaar, speelde meer dan 2.800 concerten over de hele wereld en is daarmee de meest gevraagde Beatles tributeband ter wereld.&nbsp;</p><p>In de afgelopen jaren speelde The Beatles Revival onder andere op het verjaardagsfeest van de Britse koningin Elizabeth II en het trouwfeest van voetballer Ruud van Nistelrooy, en werd opgetreden in de legendarische Cavern Club in Liverpool. De band was ook te zien in menig tv-programma.</p><p>Ga mee terug naar het Liverpool van de jaren zestig en beleef The Beatles zoals zij horen te klinken. De zaal gaat open om 20.00 uur. In de pauze is er muziek van een dj. Kaarten kosten 27,50 euro per stuk en zijn te koop via <a href="https://www.facebook.com/MFADeRosmolen/?locale=nl_NL" rel="noopener noreferrer" target="_blank">Facebook</a> of via de <a href="http://beatlesmfaderosmolen.shop.eventgoose.com" rel="noopener noreferrer" target="_blank">website</a>.</p>
LAST-MODIFIED:20260424T164545Z
LOCATION: MFA De Rosmolen | Leliestraat 19 Beneden-Leeuwen
SEQUENCE:0
STATUS:CONFIRMED
SUMMARY:The Beatles Revival in De Rosmolen
TRANSP:OPAQUE
END:VEVENT
END:VCALENDAR
