BEGIN:VCALENDAR
PRODID:-//PUBBLE//agenda//NL
VERSION:2.0
METHOD:PUBLISH
BEGIN:VEVENT
DTSTART:20241217T121802Z
DTEND:20241217T131802Z
DTSTAMP:20260422T011144Z
UID:d376c7f8-27e7-431b-9f76-ded56fff1d5b
CREATED:20260422T011144Z
NAME:Kerstconcert Kamerkoor Muzimare demaasenwaler.nl
X-WR-CALNAME:Kerstconcert Kamerkoor Muzimare
X-ALT-DESC;FMTTYPE=text/html:<a href='/agenda/2024/12/29/kerstconcert-kamerkoor-muzimare-54872'>/agenda/2024/12/29/kerstconcert-kamerkoor-muzimare-54872</a> || <p>Kamerkoor Muzimare verzorgt twee kerstconcerten in de stille dagen tussen Kerstmis en Nieuwjaar. Het concert op de zondag vindt plaats in Beuningen. Op zaterdag is er om 20.00 uur een concert in de Cenakelkerk in Heilig Landstichting. Kamerkoor Muzimare bestaat uit 25 geoefende amateur­zangers. Het koor zingt zowel profane als religieuze muziek. De entree en het programmaboekje zijn gratis. Een vrijwillige bij­dra­ge wordt zeer op prijs gesteld.</p>
DESCRIPTION:<a href='/agenda/2024/12/29/kerstconcert-kamerkoor-muzimare-54872'>/agenda/2024/12/29/kerstconcert-kamerkoor-muzimare-54872</a> || <p>Kamerkoor Muzimare verzorgt twee kerstconcerten in de stille dagen tussen Kerstmis en Nieuwjaar. Het concert op de zondag vindt plaats in Beuningen. Op zaterdag is er om 20.00 uur een concert in de Cenakelkerk in Heilig Landstichting. Kamerkoor Muzimare bestaat uit 25 geoefende amateur­zangers. Het koor zingt zowel profane als religieuze muziek. De entree en het programmaboekje zijn gratis. Een vrijwillige bij­dra­ge wordt zeer op prijs gesteld.</p>
LAST-MODIFIED:20260422T011144Z
LOCATION: Corneliuskerk | Dorpssingel 1 Beuningen
SEQUENCE:0
STATUS:CONFIRMED
SUMMARY:Kerstconcert Kamerkoor Muzimare
TRANSP:OPAQUE
END:VEVENT
END:VCALENDAR
