BEGIN:VCALENDAR
PRODID:-//PUBBLE//agenda//NL
VERSION:2.0
METHOD:PUBLISH
BEGIN:VEVENT
DTSTART:20240820T103844Z
DTEND:20240820T113844Z
DTSTAMP:20260421T130817Z
UID:27a5fc40-2592-41f7-aee8-9e6cdf731f07
CREATED:20260421T130817Z
NAME:Derde editie 3-Kernen Feest demaasenwaler.nl
X-WR-CALNAME:Derde editie 3-Kernen Feest
X-ALT-DESC;FMTTYPE=text/html:<a href='/agenda/2024/8/24/derde-editie-3-kernen-feest-53153'>/agenda/2024/8/24/derde-editie-3-kernen-feest-53153</a> || <p>Voor en door inwoners van Bergharen, Hernen en Leur wordt zaterdag 24 augustus het 3-Kernen Feest georganiseerd. De festiviteiten starten om 15.00 uur en vinden plaats op het buitenterrein van De Mijlpaal in Hernen.</p><p>Voor kinderen zijn er sport- en spelactiviteiten. Muziek is er van Harmonie St. Anna - Excelsior (15.30 - 16.30 uur), Busker (17.00 - 18.00 uur) en EC Was Here (18.30 - 19.30 uur). Vanaf 20.30 uur zorgt Feest DJ Jordi, mede op verzoek van de jeugd, voor een gezellige afsluiting. De toegang is gratis.</p>
DESCRIPTION:<a href='/agenda/2024/8/24/derde-editie-3-kernen-feest-53153'>/agenda/2024/8/24/derde-editie-3-kernen-feest-53153</a> || <p>Voor en door inwoners van Bergharen, Hernen en Leur wordt zaterdag 24 augustus het 3-Kernen Feest georganiseerd. De festiviteiten starten om 15.00 uur en vinden plaats op het buitenterrein van De Mijlpaal in Hernen.</p><p>Voor kinderen zijn er sport- en spelactiviteiten. Muziek is er van Harmonie St. Anna - Excelsior (15.30 - 16.30 uur), Busker (17.00 - 18.00 uur) en EC Was Here (18.30 - 19.30 uur). Vanaf 20.30 uur zorgt Feest DJ Jordi, mede op verzoek van de jeugd, voor een gezellige afsluiting. De toegang is gratis.</p>
LAST-MODIFIED:20260421T130817Z
LOCATION: Dorpshuis de Mijlpaal | Tunnelpad 3 Hernen
SEQUENCE:0
STATUS:CONFIRMED
SUMMARY:Derde editie 3-Kernen Feest
TRANSP:OPAQUE
END:VEVENT
END:VCALENDAR
